BEGIN:VCALENDAR
VERSION:2.0
PRODID:-//GanterPlaner - ECPv6.15.20//NONSGML v1.0//EN
CALSCALE:GREGORIAN
METHOD:PUBLISH
X-ORIGINAL-URL:https://ganterplaner.de
X-WR-CALDESC:Veranstaltungen für GanterPlaner
REFRESH-INTERVAL;VALUE=DURATION:PT1H
X-Robots-Tag:noindex
X-PUBLISHED-TTL:PT1H
BEGIN:VTIMEZONE
TZID:UTC
BEGIN:STANDARD
TZOFFSETFROM:+0000
TZOFFSETTO:+0000
TZNAME:UTC
DTSTART:20250101T000000
END:STANDARD
END:VTIMEZONE
BEGIN:VEVENT
DTSTART;TZID=UTC:20260205T200000
DTEND;TZID=UTC:20260205T230000
DTSTAMP:20260423T135914
CREATED:20250723T193150Z
LAST-MODIFIED:20250723T194056Z
UID:10004927-1770321600-1770332400@ganterplaner.de
SUMMARY:Das Bo: Tourlich\, Tourlich
DESCRIPTION:Am 5. Februar 2026 steht im Tower Musikclub Bremen alles im Zeichen des deutschen Hip-Hop: Das Bo\, bekannt durch absolute Kult-Hits wie Türlich Türlich (sicher Dicker) oder als Teil von Fünf Sterne deluxe\, bringt seine unverwechselbare Mischung aus Oldschool-Vibes\, Wortwitz und Partylaune auf die Bühne. \nFans dürfen sich auf eine energiegeladene Show freuen – mit Klassikern aus den 90ern\, neuen Tracks und jeder Menge guter Laune. Wer deutschen Hip-Hop liebt\, kommt an diesem Abend garantiert auf seine Kosten.
URL:https://ganterplaner.de/veranstaltungen/das-bo-tourlich-tourlich/
LOCATION:Tower Musicclub\, Herdentorsteinweg 7a\, Bremen\, Bremen\, 28195\, Deutschland
CATEGORIES:Konzert
ATTACH;FMTTYPE=image/jpeg:https://ganterplaner.de/wp-content/uploads/das-bo-tower-bremen.jpg
END:VEVENT
END:VCALENDAR