BEGIN:VCALENDAR
VERSION:2.0
PRODID:-//GanterPlaner - ECPv6.15.20//NONSGML v1.0//EN
CALSCALE:GREGORIAN
METHOD:PUBLISH
X-WR-CALNAME:GanterPlaner
X-ORIGINAL-URL:https://ganterplaner.de
X-WR-CALDESC:Veranstaltungen für GanterPlaner
REFRESH-INTERVAL;VALUE=DURATION:PT1H
X-Robots-Tag:noindex
X-PUBLISHED-TTL:PT1H
BEGIN:VTIMEZONE
TZID:UTC
BEGIN:STANDARD
TZOFFSETFROM:+0000
TZOFFSETTO:+0000
TZNAME:UTC
DTSTART:20240101T000000
END:STANDARD
END:VTIMEZONE
BEGIN:VEVENT
DTSTART;TZID=UTC:20250501T100000
DTEND;TZID=UTC:20250501T140000
DTSTAMP:20260421T152525
CREATED:20250428T070026Z
LAST-MODIFIED:20250428T070119Z
UID:10004883-1746093600-1746108000@ganterplaner.de
SUMMARY:1. Mai-Frühschoppen
DESCRIPTION:Der Maibaum wird um 11 Uhr aufgestellt
URL:https://ganterplaner.de/veranstaltungen/1-mai-fruehschoppen/
LOCATION:Schützenverein Schönemoor\, Zur Ollen 56\, Ganderkesee\, Niedersachsen\, 27777
CATEGORIES:Fest
ATTACH;FMTTYPE=image/jpeg:https://ganterplaner.de/wp-content/uploads/1-mai-fruehschoppen-sv-schoenmoor.jpg
END:VEVENT
END:VCALENDAR