BEGIN:VCALENDAR
VERSION:2.0
PRODID:-//GanterPlaner - ECPv6.15.20//NONSGML v1.0//EN
CALSCALE:GREGORIAN
METHOD:PUBLISH
X-WR-CALNAME:GanterPlaner
X-ORIGINAL-URL:https://ganterplaner.de
X-WR-CALDESC:Veranstaltungen für GanterPlaner
REFRESH-INTERVAL;VALUE=DURATION:PT1H
X-Robots-Tag:noindex
X-PUBLISHED-TTL:PT1H
BEGIN:VTIMEZONE
TZID:UTC
BEGIN:STANDARD
TZOFFSETFROM:+0000
TZOFFSETTO:+0000
TZNAME:UTC
DTSTART:20240101T000000
END:STANDARD
END:VTIMEZONE
BEGIN:VEVENT
DTSTART;VALUE=DATE:20250828
DTEND;VALUE=DATE:20250901
DTSTAMP:20260423T104945
CREATED:20241126T112036Z
LAST-MODIFIED:20250818T115726Z
UID:10004676-1756339200-1756684799@ganterplaner.de
SUMMARY:Stadtfest Oldenburg
DESCRIPTION:Drei Tage lang verwandelt sich Oldenburgs Innenstadt in eine große Open-Air-Party mit 18 Bühnen\, über 100 Bands und einer gigantischen Vielfalt an Musik\, Stimmung und Erlebnissen mitten in der City. \nProgrammübersicht\n\n\n\nTag & Datum\nZeiten\nHighlight-Programm\n\n\n\n\nDonnerstag\, 28. August\n17:00 – 01:00 Uhr\nFestivalstart mit Livemusik & DJ-Sets an verschiedenen Bühnen\n\n\nFreitag\, 29. August\n11:00 – 02:00 Uhr\nGanztägige Party mit DJ-Sets\, Live-Acts und besonderer Kreativbühne „37-Minuten-Bühne“\n\n\nSamstag\, 30. August\n11:00 – 02:00 Uhr\nFinale mit durchgängiger Musikwelle\, Jubiläumsstimmung und Abschluss in die Nacht\n\n\n\nBesonderes Rahmenprogramm\n\n„God to go“ – Open-Air-Gottesdienste\nSamstags auf der Bühne am Marktplatz: \n\n14:30 Uhr – Kirche für Kids mit Zauberer\, Handpuppe Kamel Kalle\, Kinderschminken\, Popcorn & Basteln\nab 15:30 Uhr – Kurzgottesdienst mit Gospelchor\, Jonglage und anschließender Kaffeezeit\n\n\n37‑Minuten‑Bühne\nAuf dieser Nachwuchsbühne treten Bands\, Livemusikerinnen und DJs je exakt 37 Minuten auf – perfekt geeignet\, um spontan Neues zu entdecken.
URL:https://ganterplaner.de/veranstaltungen/stadtfest-oldenburg/
LOCATION:Schlossplatz Oldenburg\, Schloßplatz 1\, Oldenburg\, Niedersachsen\, 26122
CATEGORIES:Fest,Festival
ATTACH;FMTTYPE=image/png:https://ganterplaner.de/wp-content/uploads/stadtfest-oldenburg.png
END:VEVENT
BEGIN:VEVENT
DTSTART;VALUE=DATE:20250827
DTEND;VALUE=DATE:20250901
DTSTAMP:20260423T104945
CREATED:20241126T112322Z
LAST-MODIFIED:20250825T095906Z
UID:10004677-1756252800-1756684799@ganterplaner.de
SUMMARY:Kochen am Schloss
DESCRIPTION:Das größte Gourmet-Event im Nordwesten \nMi\, 27.8. –  16 Uhr bis spätabends\nDo\, 28.8. bis Sa\, 30.8. –  12 Uhr bis spätabends
URL:https://ganterplaner.de/veranstaltungen/kochen-am-schloss/
LOCATION:Schlossplatz Oldenburg\, Schloßplatz 1\, Oldenburg\, Niedersachsen\, 26122
CATEGORIES:Event,Fest
END:VEVENT
END:VCALENDAR