BEGIN:VCALENDAR
VERSION:2.0
PRODID:-//GanterPlaner - ECPv6.15.20//NONSGML v1.0//EN
CALSCALE:GREGORIAN
METHOD:PUBLISH
X-ORIGINAL-URL:https://ganterplaner.de
X-WR-CALDESC:Veranstaltungen für GanterPlaner
REFRESH-INTERVAL;VALUE=DURATION:PT1H
X-Robots-Tag:noindex
X-PUBLISHED-TTL:PT1H
BEGIN:VTIMEZONE
TZID:UTC
BEGIN:STANDARD
TZOFFSETFROM:+0000
TZOFFSETTO:+0000
TZNAME:UTC
DTSTART:20240101T000000
END:STANDARD
END:VTIMEZONE
BEGIN:VEVENT
DTSTART;TZID=UTC:20250502T190000
DTEND;TZID=UTC:20250502T230000
DTSTAMP:20260423T135715
CREATED:20250420T153747Z
LAST-MODIFIED:20250420T153747Z
UID:10004874-1746212400-1746226800@ganterplaner.de
SUMMARY:Dinner Kriminale
DESCRIPTION:Ein gespenstischer Abend in einem einsamen Herrenhaus auf einer einsamen Insel\, weit vom Festland entfernt. Die legendäre Krimiautorin Mimi Durst hat eingeladen. Sie feiert ihren 50. Geburtstag. Bei dieser Gelegenheit möchte sie ihren neuen Roman „Das letzte Mahl“ vorstellen und hat sich dafür etwas Besonderes ausgedacht. Doch plötzlich wird aus einer harmlosen Unterhaltung mörderischer Ernst. Einige Gäste haben ein Mordmotiv\, draußen herrscht Unwetter und das nächste Schiff kommt nicht vor morgen früh. Wird Detektiv Conan mithilfe der Gäste den Fall lösen können? \nAuf den besten Kriminalisten des Abends wartet eine Siegerehrung.\nGerne können sich die Gäste im Stil der 60er-Jahre kleiden! \nUnser delikater Krimi-Dinner-Klassiker:\nAutor / Regie: Viola Livera\nDramaturgische Mitarbeit: Martin Sabel und Kai Helm \nInkl. 3-Gänge-Menü / Buffet
URL:https://ganterplaner.de/veranstaltungen/dinner-kriminale/
LOCATION:Oldenburger Hof\, Wittekindstr. 16\, Ganderkesee\, Niedersachsen\, 27777\, Deutschland
ATTACH;FMTTYPE=image/png:https://ganterplaner.de/wp-content/uploads/dinner-kriminale.png
END:VEVENT
END:VCALENDAR