BEGIN:VCALENDAR
VERSION:2.0
PRODID:-//GanterPlaner - ECPv6.15.20//NONSGML v1.0//EN
CALSCALE:GREGORIAN
METHOD:PUBLISH
X-WR-CALNAME:GanterPlaner
X-ORIGINAL-URL:https://ganterplaner.de
X-WR-CALDESC:Veranstaltungen für GanterPlaner
REFRESH-INTERVAL;VALUE=DURATION:PT1H
X-Robots-Tag:noindex
X-PUBLISHED-TTL:PT1H
BEGIN:VTIMEZONE
TZID:UTC
BEGIN:STANDARD
TZOFFSETFROM:+0000
TZOFFSETTO:+0000
TZNAME:UTC
DTSTART:20240101T000000
END:STANDARD
END:VTIMEZONE
BEGIN:VEVENT
DTSTART;VALUE=DATE:20250822
DTEND;VALUE=DATE:20250825
DTSTAMP:20260423T121932
CREATED:20231218T123034Z
LAST-MODIFIED:20250825T064246Z
UID:10004398-1755820800-1756079999@ganterplaner.de
SUMMARY:Rock'n'Roll-Festival Ganderkesee
DESCRIPTION:Größtes Rock ’n‘ Roll Festival in Norddeutschland bei Bremen \n\nLive Bands\nDJ´s\nTanzunterhalter\nAbendshows\nClassic Cars & Bikes\nVintage Markt / Fashion\nFoodtrucks\nRundflüge\n\nMehr Infos: rocknroll-festival.de \n 
URL:https://ganterplaner.de/veranstaltungen/rocknroll-festival-ganderkesee/
LOCATION:Flugplatz Ganderkesee\, Otto-Lilienthal-Straße 23\, Ganderkesee\, Niedersachsen\, 27777
CATEGORIES:Fest,Festival
ATTACH;FMTTYPE=image/jpeg:https://ganterplaner.de/wp-content/uploads/rocknroll-festival-2025.jpg
END:VEVENT
BEGIN:VEVENT
DTSTART;TZID=UTC:20250524T080000
DTEND;TZID=UTC:20250525T180000
DTSTAMP:20260423T121932
CREATED:20241018T070919Z
LAST-MODIFIED:20250425T065128Z
UID:10004647-1748073600-1748196000@ganterplaner.de
SUMMARY:Ganderkeseer Gewerbeschau mit großem Familienfest
DESCRIPTION:Am 24. und 25. Mai 2025 findet die große Gewerbeschau auf dem Flugplatz Ganderkesee statt. Diese überregionale Veranstaltung bietet eine vielfältige Plattform für Unternehmen\, Einzelhändler\, Handwerker\, Dienstleister und Vereine\, um ihre Produkte und Dienstleistungen vorzustellen. Besucher können sich auf ein buntes Rahmenprogramm mit Informationsständen\, Vorführungen und einem großen Familienfest freuen. \nDie Ausstellung erstreckt sich sowohl auf das Freigelände als auch den Hangar West. Für das leibliche Wohl ist mit zahlreichen Speisen- und Getränkeständen gesorgt. Die Gewerbeschau bietet einen abwechslungsreichen Branchenmix\, von lokalen Unternehmen bis hin zu überregionalen Anbietern\, und lockt mit interessanten Angeboten und Aktionen. \nAnmeldung und Konditionen\nInteressierte Aussteller können sich über die Webseite des GanterMarkt e.V. anmelden. GanterMarkt-Mitglieder profitieren dabei von besonders günstigen Konditionen: Der Quadratmeterpreis für Mitglieder beträgt nur 39\,50 € in der Halle (statt 49\,50 €) und nur 6 € im Außenbereich (statt 12 €). Eine Mitgliedschaft im GanterMarkt kostet 150 € im Jahr und bietet zahlreiche Vorteile\, darunter kostenfreie Teilnahme an verkaufsoffenen Sonntagen. \nAlle Anmeldeformulare und weitere Informationen finden Sie auf der Webseite gantermarkt.de. Sparen Sie als Mitglied und präsentieren Sie Ihr Unternehmen auf einer der größten regionalen Plattformen! \nRahmenprogramm\nNeben den zahlreichen Ausstellern gibt es ein großes Familienfest mit einem umfangreichen Unterhaltungsprogramm. Kaffee und Kuchen in der Ausstellungshalle sowie weitere gastronomische Angebote sorgen für das leibliche Wohl. \nDie Gewerbeschau bietet eine einmalige Gelegenheit\, sich in der Region zu vernetzen\, neue Kunden zu gewinnen und das eigene Unternehmen einem breiten Publikum zu präsentieren. \nVorläufige Liste der Aussteller: \n\nADAC Weser-Ems e.V.\nAnifit\nAutohaus Wührdemann GmbH & Co. KG\nAtlas-Airfield Flugplatz Ganderkesee\nAutohaus Hoppe GmbH\nBäder- und Saunabetiebsges. Ganderkesee mbH\nBremer Tageszeitung AG\nBrennpunktpunkt\nCloppenburg GmbH Delmenhorst\nCS-Energiesysteme GmbH\nDK Medien GmbH & Co. KG\nDittmar Spedition\nEvent-Selfie Die Fotobox\nGanderMed GmbH\nGemeinde Ganderkesee\nHenning Kälte- und Klimatechnik\nStanke Edeka\nHähnchenbraterei Behrens\nHeim & Haus Produktion & Vertrieb GmbH\nHYLA GmbH\nLandessparkasse zu Oldenburg\nLaura Lemon\nLiA ViE\nLink Wohnimmobilien GmbH\nNew Way Balance\nmariefreshlife (Ringana)\nMöbelhaus Backhus KG\nmobile store Ganderkesee\nPolizeiinspektion Delmenhorst/Old.-Land\nRaumkonzept\nRutz Immobilien\nsmari GmbH\nThomas Sulecki Elektrotechnik GmbH\nVereinigte Volksbank eG\nVerpackungsKontor Nord GmbH & Co. KG\nWerner Siemund GmbH & Co. KG\nWLO\nWurms Speiseeis
URL:https://ganterplaner.de/veranstaltungen/ganderkeseer-gewerbeschau-mit-grossem-familienfest/
LOCATION:Flugplatz Ganderkesee\, Otto-Lilienthal-Straße 23\, Ganderkesee\, Niedersachsen\, 27777
ATTACH;FMTTYPE=image/webp:https://ganterplaner.de/wp-content/uploads/gewerbeschau2025-1.webp
ORGANIZER;CN="GanterMarkt Ganderkesee e.V.":MAILTO:veranstaltung@gantermarkt.de
END:VEVENT
END:VCALENDAR