BEGIN:VCALENDAR
VERSION:2.0
PRODID:-//GanterPlaner - ECPv6.15.20//NONSGML v1.0//EN
CALSCALE:GREGORIAN
METHOD:PUBLISH
X-WR-CALNAME:GanterPlaner
X-ORIGINAL-URL:https://ganterplaner.de
X-WR-CALDESC:Veranstaltungen für GanterPlaner
REFRESH-INTERVAL;VALUE=DURATION:PT1H
X-Robots-Tag:noindex
X-PUBLISHED-TTL:PT1H
BEGIN:VTIMEZONE
TZID:UTC
BEGIN:STANDARD
TZOFFSETFROM:+0000
TZOFFSETTO:+0000
TZNAME:UTC
DTSTART:20240101T000000
END:STANDARD
END:VTIMEZONE
BEGIN:VEVENT
DTSTART;TZID=UTC:20251101T170000
DTEND;TZID=UTC:20251101T170000
DTSTAMP:20260423T152948
CREATED:20251029T154532Z
LAST-MODIFIED:20251029T155315Z
UID:10005199-1762016400-1762016400@ganterplaner.de
SUMMARY:Flames Hüttenzauber
DESCRIPTION:Hüttenzauber Ganderkesee – Start am 1. November \nAb dem 1. November wird’s wieder gemütlich\, gesellig und glühweinselig: Der Hüttenzauber öffnet im Herzen von Ganderkesee seine Türen – frisch aufgebaut\, rundum modernisiert und bereit für eine lange Wintersaison. \nMarco Stubbemann und Miriam Müllner haben die beliebte Winterlocation komplett neu errichtet: mehr Platz\, neue Sanitäranlagen\, bessere Ausstattung – und das gewohnt urige Ambiente bleibt natürlich erhalten. Der Duft von Glühwein\, Feuerzangenbowle und deftigen Schmankerln liegt schon in der Luft. \nAuch musikalisch wird’s wieder heiß trotz Winterkälte: Freitags gibt’s regelmäßig Livemusik\, unter anderem mit Querbeat am 14. November und 12. Dezember – inzwischen fast schon die Hausband des Hüttenzaubers. \nDas große Finale bildet wie immer das legendäre Schredderfest am 11. Januar 2026. \nWer Ganderkesee kennt\, weiß: Ohne Hüttenzauber wäre der Winter nur halb so schön.
URL:https://ganterplaner.de/veranstaltungen/flames-huettenzauber/
LOCATION:Flames Garden\, Im Knick 7\, Ganderkesee\, Niedersachsen\, 27777\, Deutschland
CATEGORIES:Weihnachten
ATTACH;FMTTYPE=image/jpeg:https://ganterplaner.de/wp-content/uploads/flames-huettenzauber-2025.jpg
END:VEVENT
END:VCALENDAR