BEGIN:VCALENDAR
VERSION:2.0
PRODID:-//GanterPlaner - ECPv6.15.20//NONSGML v1.0//EN
CALSCALE:GREGORIAN
METHOD:PUBLISH
X-ORIGINAL-URL:https://ganterplaner.de
X-WR-CALDESC:Veranstaltungen für GanterPlaner
REFRESH-INTERVAL;VALUE=DURATION:PT1H
X-Robots-Tag:noindex
X-PUBLISHED-TTL:PT1H
BEGIN:VTIMEZONE
TZID:UTC
BEGIN:STANDARD
TZOFFSETFROM:+0000
TZOFFSETTO:+0000
TZNAME:UTC
DTSTART:20240101T000000
END:STANDARD
END:VTIMEZONE
BEGIN:VEVENT
DTSTART;VALUE=DATE:20250122
DTEND;VALUE=DATE:20250125
DTSTAMP:20260423T141352
CREATED:20241201T164814Z
LAST-MODIFIED:20241205T080624Z
UID:10004685-1737522000-1737694799@ganterplaner.de
SUMMARY:Feuerwerk der Turnkunst
DESCRIPTION:GAIA Tournee 2025 \nKraftvoll\, fesselnd & gewaltig \nGAIA gibt Dir einen wundervollen Blick in die Welt der Natur\, in der Gegensätze zu einer Einheit verschmelzen. Dich erwartet ein faszinierendes Zusammenspiel der Elemente zwischen Himmel und Erde. Atemberaubende Synchronität aus Asien\, beeindruckende Luftshows aus Europa und spektakuläre Akrobatik aus Afrika bilden gemeinsam mit vielen weiteren Weltklassedarbietungen ein unvergleichliches Show-Erlebnis. \nGAIA ist … \n… ursprünglich und trifft dennoch den Zahn der Zeit \n… kraftvoll und gleichzeitig zutiefst anmutig \n… monumental und dabei voller erfrischender Freude \nMit GAIA wirst Du die Welt neu entdecken.
URL:https://ganterplaner.de/veranstaltungen/feuerwerk-der-turnkunst-gaia-oldenburg/
LOCATION:EWE ARENA Oldenburg\, Europaplatz 12\, Oldenburg\, Niedersachsen\, 26123\, Deutschland
CATEGORIES:Kultur
END:VEVENT
END:VCALENDAR