BEGIN:VCALENDAR
VERSION:2.0
PRODID:-//GanterPlaner - ECPv6.15.20//NONSGML v1.0//EN
CALSCALE:GREGORIAN
METHOD:PUBLISH
X-WR-CALNAME:GanterPlaner
X-ORIGINAL-URL:https://ganterplaner.de
X-WR-CALDESC:Veranstaltungen für GanterPlaner
REFRESH-INTERVAL;VALUE=DURATION:PT1H
X-Robots-Tag:noindex
X-PUBLISHED-TTL:PT1H
BEGIN:VTIMEZONE
TZID:UTC
BEGIN:STANDARD
TZOFFSETFROM:+0000
TZOFFSETTO:+0000
TZNAME:UTC
DTSTART:20250101T000000
END:STANDARD
END:VTIMEZONE
BEGIN:VEVENT
DTSTART;VALUE=DATE:20260619
DTEND;VALUE=DATE:20260622
DTSTAMP:20260423T102518
CREATED:20231218T122151Z
LAST-MODIFIED:20250821T044649Z
UID:10004395-1781827200-1782086399@ganterplaner.de
SUMMARY:Hurricane Festival / Scheeßel 2026
DESCRIPTION:Sturmwarnung im Juni – mehr als 25 Jahre Festivalgeschichte beim Hurricane Festival in Scheeßel! \nEnde Juni wird es am Eichenring bei Scheeßel – zwischen Bremen und Hamburg – jedes Jahr windig und wild: Dann heißt es wieder Hurricane Festival! Seit 1997 lädt das Festival musikbegeisterte Menschen für drei Tage voller Livemusik\, Festivalflair und unvergesslicher Momente ein. \nVielfalt auf allen Bühnen\nAuf dem Speedway-Gelände präsentieren sich auf vier Bühnen die ganz Großen und vielversprechende Newcomer: Die Forest Stage\, River Stage\, Mountain Stage (alle Open Air) und die Wild Coast Stage (Zeltbühne) bieten ein abwechslungsreiches Erlebnis. Headliner der Vergangenheit? Rammstein\, Die Ärzte\, Foo Fighters\, Green Day – die Liste ist lang. \nGenre-Hopping deluxe\nDas Programm ist so bunt wie das Publikum – Alternative\, Indie\, Rock\, Pop\, Hip-Hop\, Electro tummeln sich auf der Festivalbühne. Ob Indie-Pop-Hymne\, Hip-Hop-Beat oder Electro-Explosion – auf dem Hurricane kommt jeder auf seine Kosten. \nKult\, Community & Camping\nMit Besucherzahlen von bis zu 80.000 zählt das Hurricane zu den größten Musikfestivals Deutschlands; 2022 wurden allein 80.000 gezählt. Das liegt nicht nur am grandiosen Line-up\, sondern auch an der entspannten Atmosphäre – ob auf dem Campingplatz oder beim Feiern auf dem Gelände. \nOrigin und Historie\nDie Anfänge reichen zurück bis 1973 („Es rockt in der Heide”) und 1977 („First Rider Open Air”) – legendäre Festivals\, die im Chaos endeten. Ein unvergesslicher Start mit Acts wie Rammstein\, INXS und Bad Religion lockte schon damals 20.000 Fans aufs Gelände \n\nWann: Jedes Jahr im Juni\, meist Freitag bis Sonntag (mit Warm-up-Donnerstag)\nWo: Eichenring Speedway\, Scheeßel\, Niedersachsen (zwischen Bremen & Hamburg)\nWas: Drei Tage Festival mit nationalen & internationalen Top-Acts\, Newcomern\, und vier Bühnen (Forest\, River\, Mountain\, Wild Coast)\nWer: Bis zu 80.000 begeisterte Musikfans – große Namen + frische Talente\nHighlights: Genre-Mix\, Camping-Atmosphäre\, Gemeinschaft & Festivalkultur pur\nExtra: Festival steht regelmäßig unter Wetterwarnung – Besucher sollten mit allem rechnen und sich flexibel vorbereiten
URL:https://ganterplaner.de/veranstaltungen/hurricane-festival-scheessel/
LOCATION:Eichenring\, Westerveseder Landstraße\,\, Scheeßel\, Niedersachen\, 27383
CATEGORIES:Festival
END:VEVENT
END:VCALENDAR