BEGIN:VCALENDAR
VERSION:2.0
PRODID:-//GanterPlaner - ECPv6.15.20//NONSGML v1.0//EN
CALSCALE:GREGORIAN
METHOD:PUBLISH
X-WR-CALNAME:GanterPlaner
X-ORIGINAL-URL:https://ganterplaner.de
X-WR-CALDESC:Veranstaltungen für GanterPlaner
REFRESH-INTERVAL;VALUE=DURATION:PT1H
X-Robots-Tag:noindex
X-PUBLISHED-TTL:PT1H
BEGIN:VTIMEZONE
TZID:UTC
BEGIN:STANDARD
TZOFFSETFROM:+0000
TZOFFSETTO:+0000
TZNAME:UTC
DTSTART:20250101T000000
END:STANDARD
END:VTIMEZONE
BEGIN:VEVENT
DTSTART;TZID=UTC:20260502T100000
DTEND;TZID=UTC:20260502T160000
DTSTAMP:20260421T103248
CREATED:20231214T110327Z
LAST-MODIFIED:20251118T143235Z
UID:10005206-1777716000-1777737600@ganterplaner.de
SUMMARY:City Samstag Delmenhorst
DESCRIPTION:Die Besucher erwartet von 10 bis 16 Uhr neben dem Shoppingbummel\, Darbietungen und Mitmachaktionen von Delmenhorster Vereinen und Institutionen. \nEntlang der Langen Straße und auf der großen Vereinsmeile – von der Hertie-Fläche über die Markthalle\, den Brunnenplatz bis zum Schweinemarkt – präsentieren sich vielfältige Vereine aus Delmenhorst und Umgebung. \nFreut euch auf ein buntes Programm mit Sport\, Kultur und vielen spannenden Themen – für Klein und Groß!\nUnd das Beste: Alle Angebote sind kostenlos! \nKommt vorbei\, erlebt die Vielfalt unserer Stadt und entdeckt tolle Geschäfte. Wir freuen uns auf euch!
URL:https://ganterplaner.de/veranstaltungen/city-samstag-delmenhorst/2026-05-02/
LOCATION:Delmenhorster Innenstadt\, Rathausplatz\, Delmenhorst\, Niedersachsen\, 27749\, Deutschland
CATEGORIES:Event
END:VEVENT
END:VCALENDAR