BEGIN:VCALENDAR
VERSION:2.0
PRODID:-//GanterPlaner - ECPv6.15.20//NONSGML v1.0//EN
CALSCALE:GREGORIAN
METHOD:PUBLISH
X-WR-CALNAME:GanterPlaner
X-ORIGINAL-URL:https://ganterplaner.de
X-WR-CALDESC:Veranstaltungen für GanterPlaner
REFRESH-INTERVAL;VALUE=DURATION:PT1H
X-Robots-Tag:noindex
X-PUBLISHED-TTL:PT1H
BEGIN:VTIMEZONE
TZID:UTC
BEGIN:STANDARD
TZOFFSETFROM:+0000
TZOFFSETTO:+0000
TZNAME:UTC
DTSTART:20250101T000000
END:STANDARD
END:VTIMEZONE
BEGIN:VEVENT
DTSTART;TZID=UTC:20260514T090000
DTEND;TZID=UTC:20260514T140000
DTSTAMP:20260423T115539
CREATED:20260414T155019Z
LAST-MODIFIED:20260414T155019Z
UID:10005376-1778749200-1778767200@ganterplaner.de
SUMMARY:Straßenflohmarkt Delmenhorst
DESCRIPTION:Hahreszeiten Flohmarkt in Delmenhorst \n  \nDonnerstag\, 14.05.2026 09:00 bis 14:00 Uhr \n  \nVon allem und für alle wird etwas dabei sein. \n  \nBücher\, Spielsachen\, Kinderkleidung\, Deko\, Haushalt\, Trödel\, .. \n  \nParkplätze sind beim Hotel Thomsen vorhanden. \n  \nBrötchen und Kaffee gibt es bei der Bärenbackstube
URL:https://ganterplaner.de/veranstaltungen/strassenflohmarkt-delmenhorst/
LOCATION:Delmenhorst Frühlingsweg Sommerweg Herbstweg\, Frühlingsweg\, Delmenhorst\, 27751\, Deutschland
CATEGORIES:Flohmarkt
ATTACH;FMTTYPE=image/jpeg:https://ganterplaner.de/wp-content/uploads/1000205783.jpg
END:VEVENT
END:VCALENDAR