BEGIN:VCALENDAR
VERSION:2.0
PRODID:-//GanterPlaner - ECPv6.15.20//NONSGML v1.0//EN
CALSCALE:GREGORIAN
METHOD:PUBLISH
X-ORIGINAL-URL:https://ganterplaner.de
X-WR-CALDESC:Veranstaltungen für GanterPlaner
REFRESH-INTERVAL;VALUE=DURATION:PT1H
X-Robots-Tag:noindex
X-PUBLISHED-TTL:PT1H
BEGIN:VTIMEZONE
TZID:UTC
BEGIN:STANDARD
TZOFFSETFROM:+0000
TZOFFSETTO:+0000
TZNAME:UTC
DTSTART:20240101T000000
END:STANDARD
END:VTIMEZONE
BEGIN:VEVENT
DTSTART;TZID=UTC:20251129T110000
DTEND;TZID=UTC:20251129T160000
DTSTAMP:20260420T082721
CREATED:20251002T222610Z
LAST-MODIFIED:20251002T222837Z
UID:10005198-1764414000-1764432000@ganterplaner.de
SUMMARY:Wim Hof Fundamentals Workshop mit Daniel Ruppert
DESCRIPTION:„There’s no limit in your spirit\, it’s a chemical balance that you can control“ – Wim Hof \nATEM-TRAINING ｜WIM HOF ATMUNG｜MINDSET-TECHNIKEN｜EISBAD- & KÄLTETRAINING｜STRESSRESILIENZ\nBaue innere Stärke\, Widerstandskraft und innere Ruhe\, durch die Anwendung der WIM HOF METHODE auf. Die 3 Säulen Atmung\, Kälte und Fokus werden ausführlich geübt und das Wissen dazu detailliert vermittelt. Man lernt Sauerstoff und Kälte zu nutzen\, um Körper und Geist effektiv zu optimieren.\nDer Körper füllt sich im Laufe des Workshops mit großer Vitalität und bodenständigem Schwung.\n✓ Stärkung des Immunsystems\n✓ Steigerung der Kraft- und Energiereserven\n✓ Reduzierung von Stress und besserer Schlaf\n✓ Verbesserung der Sportperformance\n✓ Größere Kältetoleranz \nErlebe die Wim-Hof-Methode mit einem unserer erfahrensten Top-Level-2-Instruktor – Daniel Ruppert im geräumigen COOLSPORTS – Studio . \nWAS BEKOMMT MAN:\n✓ WHM ATMUNG\n✓ BEWEGUNG\n✓ MINDSET TRAINING\n✓ ATEMRAUM TRAINING\n✓ EISBAD\n✓ THEORIE & WISSENSCHAFT\n✓ TIPPS & TRICKS \nJeder Teilnehmer erfährt ‚praktisch‘ die Kraft der Atmung (Atemübungen\, Atembewusstsein\, Atemkontrolle)\, die Energie der Kälte (Eisbad\, Kältekontakt) und die Macht der inneren Stärke (Fokustraining und Meditation) \nWAS MUSS MAN MITBRINGEN:\n✓ Yogamatte\n✓ bequeme Kleidung\n✓ Schwimmsachen & Badelatschen\n✓ Handtücher\, ggf. Bademantel \nORT: \nDer COOLSPORTS Studio ist ein wunderschöner und großzügiger Ort ideal für einen WHM Workshop. Im Studio machen wir die WHM Atmung & lernen die Theorie kennen. Das Eisbad nehmen wir draußen vor dem Studio. \nWANN?\nSamstag\, 29.11.2025\n11:00 – 16:00 \nPREIS?\n135 € / Person \nVERPFLEGUNG:\nEs wird kein Essen angeboten. Bitte daher etwas zur Stärkung mitbringen oder selbst organisieren. Für ausreichend Trinkwasser ist gesorgt \nFür WEN ist der Workshop?\nDieser Workshop ist für jedermann geeignet\, allerdings ist ein gewisses Grundmaß an Gesundheit erforderlich. Aus Vorsorge\, raten wir dringend von einer Teilnahme\, während der Schwangerschaft und beim Vorhandensein von Epilepsie\, ab. Menschen mit Herz-Kreislauf-Risiko oder anderen schweren gesundheitlichen Problemen sollten einen medizinischen Fachmann konsultieren\, bevor sie mit der Wim Hof Methode starten. \nIch freue mich auf Euch!
URL:https://ganterplaner.de/veranstaltungen/wim-hof-fundamentals-workshop-mit-daniel-ruppert/
LOCATION:COOLSPORTS\, Industriepark 7\, Ganderkesee\, Niedersachsen\, 27777\, Deutschland
CATEGORIES:Sport
ATTACH;FMTTYPE=image/jpeg:https://ganterplaner.de/wp-content/uploads/Wim-Hof-Workshop-Eisbad-Ganderkesee.jpg
END:VEVENT
END:VCALENDAR