BEGIN:VCALENDAR
VERSION:2.0
PRODID:-//GanterPlaner - ECPv6.15.20//NONSGML v1.0//EN
CALSCALE:GREGORIAN
METHOD:PUBLISH
X-WR-CALNAME:GanterPlaner
X-ORIGINAL-URL:https://ganterplaner.de
X-WR-CALDESC:Veranstaltungen für GanterPlaner
REFRESH-INTERVAL;VALUE=DURATION:PT1H
X-Robots-Tag:noindex
X-PUBLISHED-TTL:PT1H
BEGIN:VTIMEZONE
TZID:UTC
BEGIN:STANDARD
TZOFFSETFROM:+0000
TZOFFSETTO:+0000
TZNAME:UTC
DTSTART:20240101T000000
END:STANDARD
END:VTIMEZONE
BEGIN:VEVENT
DTSTART;TZID=UTC:20251004T000000
DTEND;TZID=UTC:20251005T000000
DTSTAMP:20260424T080607
CREATED:20250827T093102Z
LAST-MODIFIED:20250827T132536Z
UID:10005170-1759536000-1759622400@ganterplaner.de
SUMMARY:Erntedankfest an der Bockwindmühle Dornum
DESCRIPTION:Vor der historischen Kulisse der Bockwindmühle Dornum wird das Erntedankfest zu einem besonderen Erlebnis. Wo sich sonst die Flügel im Wind drehen\, erwartet die Besucher ein buntes Programm mit Tradition\, Leckereien und Spaß für die ganze Familie. \nSamstag\, 4. Oktober\n🕒 ab 15 Uhr Festbetrieb\n🚜 Traktor-Oldtimer-Korso (Treffpunkt Gewerbestraße 14 – spontane Teilnehmer willkommen\, Anmeldung um 15 Uhr\, Freigetränk & Bratwurst für alle Fahrer) \nSonntag\, 5. Oktober\n🕚 ab 11 Uhr Festbetrieb\n🙏 Plattdeutscher Gottesdienst\n🔨 Auktion\n🎃 Kürbis-Schnitz-Wettbewerb – eigener Kürbis mitbringen\, Abgabe bis 14:30 Uhr\, Preise für die besten 3!\n🍴 Besonderheit: Mühlenfrikadellen mit Jägersoße & Bratkartoffeln (nur Sonntag) \nAn beiden Tagen:\n🌭 Bratwurst & Pommes\n🍰 Kaffee & Kuchen\n🍺 Bier vom Fass\n🤸 Hüpfburg & 🎯 XXL-Dart \nEin Fest\, das Dorfleben\, Handwerkstradition und Geselligkeit an einem ganz besonderen Ort zusammenbringt.
URL:https://ganterplaner.de/veranstaltungen/erntedankfest-an-der-bockwindmuehle-dornum/
LOCATION:Bockwindmühle Dornum\, Bahnhofstr. 17\, Dornum\, Niedersachsen\, 26553\, Deutschland
ATTACH;FMTTYPE=image/jpeg:https://ganterplaner.de/wp-content/uploads/bockwindmuehle-dornum-erntedankfest-2025.jpg
END:VEVENT
END:VCALENDAR