BEGIN:VCALENDAR
VERSION:2.0
PRODID:-//GanterPlaner - ECPv6.15.20//NONSGML v1.0//EN
CALSCALE:GREGORIAN
METHOD:PUBLISH
X-ORIGINAL-URL:https://ganterplaner.de
X-WR-CALDESC:Veranstaltungen für GanterPlaner
REFRESH-INTERVAL;VALUE=DURATION:PT1H
X-Robots-Tag:noindex
X-PUBLISHED-TTL:PT1H
BEGIN:VTIMEZONE
TZID:UTC
BEGIN:STANDARD
TZOFFSETFROM:+0000
TZOFFSETTO:+0000
TZNAME:UTC
DTSTART:20260101T000000
END:STANDARD
END:VTIMEZONE
BEGIN:VEVENT
DTSTART;TZID=UTC:20270501T070000
DTEND;TZID=UTC:20270501T140000
DTSTAMP:20260426T020110
CREATED:20231113T043437Z
LAST-MODIFIED:20250808T082335Z
UID:10002540-1809154800-1809180000@ganterplaner.de
SUMMARY:Wochenmarkt Oldenburg
DESCRIPTION:
URL:https://ganterplaner.de/veranstaltungen/wochenmarkt-oldenburg-2/2027-05-01/
LOCATION:Niedersachsen
CATEGORIES:Wochenmärkte
END:VEVENT
BEGIN:VEVENT
DTSTART;TZID=UTC:20270504T070000
DTEND;TZID=UTC:20270504T133000
DTSTAMP:20260426T020110
CREATED:20231108T141448Z
LAST-MODIFIED:20240115T104011Z
UID:10001940-1809414000-1809437400@ganterplaner.de
SUMMARY:Wochenmarkt Oldenburg
DESCRIPTION:Der Wochenmarkt am Pferdemarkt ist der größte der städtischen Wochenmärkte. Vom Frühjahr bis zum Herbst werden hier an bis zu 75 Marktständen Waren angeboten. Im Winter fehlen jahreszeitlich bedingt einige der Anbieter wie Baumschulen und Gärtnereien. \nZusätzlich zu den Dauerbeschickerinnen und Dauerbeschickern sind hier auch Verkäuferinen und Verkäufer zu finden\, die ihre Waren nur an einigen Markttagen im Jahr anbieten\, wie zum Beispiel Haushaltsartikel\, Tees\, Nistkästen und Insektenhotels sowie Kleidung oder Kurzwaren und Tischdecken. Auf dem Pferdemarkt sind viele Anbieterinen und Anbieter anzutreffen\, die Ihre Waren selber produzieren. Dabei können Sie auf eine große Produktvielfalt zurückgreifen\, die von Gemüsejungpflanzen über Blumen und Sträucher bis hin zu Obst und Gemüse sowie Kuchen und Käse reicht. \n 
URL:https://ganterplaner.de/veranstaltungen/wochenmarkt-oldenburg/2027-05-04/
LOCATION:Pferdemarkt Oldenburg\, Pferdemarkt\, Oldenburg\, Niedersachsen\, 26121\, Deutschland
CATEGORIES:Wochenmärkte
END:VEVENT
BEGIN:VEVENT
DTSTART;TZID=UTC:20270504T160000
DTEND;TZID=UTC:20270504T190000
DTSTAMP:20260426T020110
CREATED:20260219T075904Z
LAST-MODIFIED:20260219T075905Z
UID:10005116-1809446400-1809457200@ganterplaner.de
SUMMARY:Repair Café Wildeshausen
DESCRIPTION:Lieblingsgerät kaputt? \nDann komm ins Repair-Café! Ehrenamtliche Helfer:innen unterstützen dich beim Reparieren deiner Kleingeräte in den Bereichen Elektronik\, Mechanik\, Textil und mehr – soweit es möglich ist. Reparieren statt Wegwerfen! \n📅  jeweils am 1. Dienstag im Monat\, außerhalb der Schulferien\n⏰ Uhrzeit: 16:00 – 19:00 Uhr\n👉 Annahmeschluss: 18:30 Uhr
URL:https://ganterplaner.de/veranstaltungen/repair-cafe-wildeshausen-2/2027-05-04/
LOCATION:Hauptschule Wildeshausen\, Humboldtstraße 1\, Wildeshausen\, Niedersachsen\, 27793\, Deutschland
END:VEVENT
BEGIN:VEVENT
DTSTART;TZID=UTC:20270506T070000
DTEND;TZID=UTC:20270506T133000
DTSTAMP:20260426T020110
CREATED:20231108T141448Z
LAST-MODIFIED:20240115T104011Z
UID:10001941-1809586800-1809610200@ganterplaner.de
SUMMARY:Wochenmarkt Oldenburg
DESCRIPTION:Der Wochenmarkt am Pferdemarkt ist der größte der städtischen Wochenmärkte. Vom Frühjahr bis zum Herbst werden hier an bis zu 75 Marktständen Waren angeboten. Im Winter fehlen jahreszeitlich bedingt einige der Anbieter wie Baumschulen und Gärtnereien. \nZusätzlich zu den Dauerbeschickerinnen und Dauerbeschickern sind hier auch Verkäuferinen und Verkäufer zu finden\, die ihre Waren nur an einigen Markttagen im Jahr anbieten\, wie zum Beispiel Haushaltsartikel\, Tees\, Nistkästen und Insektenhotels sowie Kleidung oder Kurzwaren und Tischdecken. Auf dem Pferdemarkt sind viele Anbieterinen und Anbieter anzutreffen\, die Ihre Waren selber produzieren. Dabei können Sie auf eine große Produktvielfalt zurückgreifen\, die von Gemüsejungpflanzen über Blumen und Sträucher bis hin zu Obst und Gemüse sowie Kuchen und Käse reicht. \n 
URL:https://ganterplaner.de/veranstaltungen/wochenmarkt-oldenburg/2027-05-06/
LOCATION:Pferdemarkt Oldenburg\, Pferdemarkt\, Oldenburg\, Niedersachsen\, 26121\, Deutschland
CATEGORIES:Wochenmärkte
END:VEVENT
BEGIN:VEVENT
DTSTART;TZID=UTC:20270507T130000
DTEND;TZID=UTC:20270507T180000
DTSTAMP:20260426T020110
CREATED:20231113T045334Z
LAST-MODIFIED:20240115T104055Z
UID:10003802-1809694800-1809712800@ganterplaner.de
SUMMARY:Wochenmarkt Ganderkesee
DESCRIPTION:
URL:https://ganterplaner.de/veranstaltungen/wochenmarkt-ganderkesee/2027-05-07/
LOCATION:Marktplatz Ganderkesee\, Markt\, Ganderkesee\, Niedersachsen\, 27777
CATEGORIES:Wochenmärkte
END:VEVENT
BEGIN:VEVENT
DTSTART;TZID=UTC:20270508T070000
DTEND;TZID=UTC:20270508T140000
DTSTAMP:20260426T020110
CREATED:20231113T043437Z
LAST-MODIFIED:20250808T082335Z
UID:10002541-1809759600-1809784800@ganterplaner.de
SUMMARY:Wochenmarkt Oldenburg
DESCRIPTION:
URL:https://ganterplaner.de/veranstaltungen/wochenmarkt-oldenburg-2/2027-05-08/
LOCATION:Niedersachsen
CATEGORIES:Wochenmärkte
END:VEVENT
BEGIN:VEVENT
DTSTART;TZID=UTC:20270511T070000
DTEND;TZID=UTC:20270511T133000
DTSTAMP:20260426T020110
CREATED:20231108T141448Z
LAST-MODIFIED:20240115T104011Z
UID:10001942-1810018800-1810042200@ganterplaner.de
SUMMARY:Wochenmarkt Oldenburg
DESCRIPTION:Der Wochenmarkt am Pferdemarkt ist der größte der städtischen Wochenmärkte. Vom Frühjahr bis zum Herbst werden hier an bis zu 75 Marktständen Waren angeboten. Im Winter fehlen jahreszeitlich bedingt einige der Anbieter wie Baumschulen und Gärtnereien. \nZusätzlich zu den Dauerbeschickerinnen und Dauerbeschickern sind hier auch Verkäuferinen und Verkäufer zu finden\, die ihre Waren nur an einigen Markttagen im Jahr anbieten\, wie zum Beispiel Haushaltsartikel\, Tees\, Nistkästen und Insektenhotels sowie Kleidung oder Kurzwaren und Tischdecken. Auf dem Pferdemarkt sind viele Anbieterinen und Anbieter anzutreffen\, die Ihre Waren selber produzieren. Dabei können Sie auf eine große Produktvielfalt zurückgreifen\, die von Gemüsejungpflanzen über Blumen und Sträucher bis hin zu Obst und Gemüse sowie Kuchen und Käse reicht. \n 
URL:https://ganterplaner.de/veranstaltungen/wochenmarkt-oldenburg/2027-05-11/
LOCATION:Pferdemarkt Oldenburg\, Pferdemarkt\, Oldenburg\, Niedersachsen\, 26121\, Deutschland
CATEGORIES:Wochenmärkte
END:VEVENT
BEGIN:VEVENT
DTSTART;TZID=UTC:20270511T170000
DTEND;TZID=UTC:20270511T190000
DTSTAMP:20260426T020110
CREATED:20250825T075533Z
LAST-MODIFIED:20250825T075903Z
UID:10005045-1810054800-1810062000@ganterplaner.de
SUMMARY:Repair Café Ganderkesee
DESCRIPTION:Reparieren statt Wegwerfen! \nJeden 2. Dienstag im Monat öffnet das Repair-Café in Ganderkesee von 17:00 bis 19:00 Uhr seine Türen. Veranstaltungsort ist der Werkraum der Schule am Habbrügger Weg 4\, 27777 Ganderkesee. 👉 Hinweis: In den Schulferien findet kein Repair-Café statt! \nAngeboten werden Reparaturen an: \n\nKleingeräten in den Bereichen Elektronik & Elektrik\nMechanik\nNäharbeiten\nKlebearbeiten\n\nIm Schnitt besuchen rund 35 Gäste das Repair-Café – eine tolle Resonanz\, die manchmal auch etwas Wartezeit mit sich bringt. Für eine entspannte Atmosphäre sorgen Kaffee und Kekse\, und ein großes Dankeschön geht an alle ehrenamtlichen Helfer:innen!
URL:https://ganterplaner.de/veranstaltungen/repair-cafe-ganderkesee-2/2027-05-11/
LOCATION:Förderzentrum Ganderkesee\, Habbrügger Weg 4\, Ganderkesee\, Niedersachsen\, 27777
CATEGORIES:Event
ATTACH;FMTTYPE=image/png:https://ganterplaner.de/wp-content/uploads/repair-cafe-ganderkesee.png
END:VEVENT
BEGIN:VEVENT
DTSTART;TZID=UTC:20270513T070000
DTEND;TZID=UTC:20270513T133000
DTSTAMP:20260426T020110
CREATED:20231108T141448Z
LAST-MODIFIED:20240115T104011Z
UID:10001943-1810191600-1810215000@ganterplaner.de
SUMMARY:Wochenmarkt Oldenburg
DESCRIPTION:Der Wochenmarkt am Pferdemarkt ist der größte der städtischen Wochenmärkte. Vom Frühjahr bis zum Herbst werden hier an bis zu 75 Marktständen Waren angeboten. Im Winter fehlen jahreszeitlich bedingt einige der Anbieter wie Baumschulen und Gärtnereien. \nZusätzlich zu den Dauerbeschickerinnen und Dauerbeschickern sind hier auch Verkäuferinen und Verkäufer zu finden\, die ihre Waren nur an einigen Markttagen im Jahr anbieten\, wie zum Beispiel Haushaltsartikel\, Tees\, Nistkästen und Insektenhotels sowie Kleidung oder Kurzwaren und Tischdecken. Auf dem Pferdemarkt sind viele Anbieterinen und Anbieter anzutreffen\, die Ihre Waren selber produzieren. Dabei können Sie auf eine große Produktvielfalt zurückgreifen\, die von Gemüsejungpflanzen über Blumen und Sträucher bis hin zu Obst und Gemüse sowie Kuchen und Käse reicht. \n 
URL:https://ganterplaner.de/veranstaltungen/wochenmarkt-oldenburg/2027-05-13/
LOCATION:Pferdemarkt Oldenburg\, Pferdemarkt\, Oldenburg\, Niedersachsen\, 26121\, Deutschland
CATEGORIES:Wochenmärkte
END:VEVENT
BEGIN:VEVENT
DTSTART;TZID=UTC:20270514T130000
DTEND;TZID=UTC:20270514T180000
DTSTAMP:20260426T020110
CREATED:20231113T045334Z
LAST-MODIFIED:20240115T104055Z
UID:10003803-1810299600-1810317600@ganterplaner.de
SUMMARY:Wochenmarkt Ganderkesee
DESCRIPTION:
URL:https://ganterplaner.de/veranstaltungen/wochenmarkt-ganderkesee/2027-05-14/
LOCATION:Marktplatz Ganderkesee\, Markt\, Ganderkesee\, Niedersachsen\, 27777
CATEGORIES:Wochenmärkte
END:VEVENT
BEGIN:VEVENT
DTSTART;TZID=UTC:20270515T070000
DTEND;TZID=UTC:20270515T140000
DTSTAMP:20260426T020110
CREATED:20231113T043437Z
LAST-MODIFIED:20250808T082335Z
UID:10002542-1810364400-1810389600@ganterplaner.de
SUMMARY:Wochenmarkt Oldenburg
DESCRIPTION:
URL:https://ganterplaner.de/veranstaltungen/wochenmarkt-oldenburg-2/2027-05-15/
LOCATION:Niedersachsen
CATEGORIES:Wochenmärkte
END:VEVENT
BEGIN:VEVENT
DTSTART;TZID=UTC:20270518T070000
DTEND;TZID=UTC:20270518T133000
DTSTAMP:20260426T020110
CREATED:20231108T141448Z
LAST-MODIFIED:20240115T104011Z
UID:10001944-1810623600-1810647000@ganterplaner.de
SUMMARY:Wochenmarkt Oldenburg
DESCRIPTION:Der Wochenmarkt am Pferdemarkt ist der größte der städtischen Wochenmärkte. Vom Frühjahr bis zum Herbst werden hier an bis zu 75 Marktständen Waren angeboten. Im Winter fehlen jahreszeitlich bedingt einige der Anbieter wie Baumschulen und Gärtnereien. \nZusätzlich zu den Dauerbeschickerinnen und Dauerbeschickern sind hier auch Verkäuferinen und Verkäufer zu finden\, die ihre Waren nur an einigen Markttagen im Jahr anbieten\, wie zum Beispiel Haushaltsartikel\, Tees\, Nistkästen und Insektenhotels sowie Kleidung oder Kurzwaren und Tischdecken. Auf dem Pferdemarkt sind viele Anbieterinen und Anbieter anzutreffen\, die Ihre Waren selber produzieren. Dabei können Sie auf eine große Produktvielfalt zurückgreifen\, die von Gemüsejungpflanzen über Blumen und Sträucher bis hin zu Obst und Gemüse sowie Kuchen und Käse reicht. \n 
URL:https://ganterplaner.de/veranstaltungen/wochenmarkt-oldenburg/2027-05-18/
LOCATION:Pferdemarkt Oldenburg\, Pferdemarkt\, Oldenburg\, Niedersachsen\, 26121\, Deutschland
CATEGORIES:Wochenmärkte
END:VEVENT
BEGIN:VEVENT
DTSTART;TZID=UTC:20270520T070000
DTEND;TZID=UTC:20270520T133000
DTSTAMP:20260426T020110
CREATED:20231108T141448Z
LAST-MODIFIED:20240115T104011Z
UID:10001945-1810796400-1810819800@ganterplaner.de
SUMMARY:Wochenmarkt Oldenburg
DESCRIPTION:Der Wochenmarkt am Pferdemarkt ist der größte der städtischen Wochenmärkte. Vom Frühjahr bis zum Herbst werden hier an bis zu 75 Marktständen Waren angeboten. Im Winter fehlen jahreszeitlich bedingt einige der Anbieter wie Baumschulen und Gärtnereien. \nZusätzlich zu den Dauerbeschickerinnen und Dauerbeschickern sind hier auch Verkäuferinen und Verkäufer zu finden\, die ihre Waren nur an einigen Markttagen im Jahr anbieten\, wie zum Beispiel Haushaltsartikel\, Tees\, Nistkästen und Insektenhotels sowie Kleidung oder Kurzwaren und Tischdecken. Auf dem Pferdemarkt sind viele Anbieterinen und Anbieter anzutreffen\, die Ihre Waren selber produzieren. Dabei können Sie auf eine große Produktvielfalt zurückgreifen\, die von Gemüsejungpflanzen über Blumen und Sträucher bis hin zu Obst und Gemüse sowie Kuchen und Käse reicht. \n 
URL:https://ganterplaner.de/veranstaltungen/wochenmarkt-oldenburg/2027-05-20/
LOCATION:Pferdemarkt Oldenburg\, Pferdemarkt\, Oldenburg\, Niedersachsen\, 26121\, Deutschland
CATEGORIES:Wochenmärkte
END:VEVENT
BEGIN:VEVENT
DTSTART;TZID=UTC:20270521T130000
DTEND;TZID=UTC:20270521T180000
DTSTAMP:20260426T020110
CREATED:20231113T045334Z
LAST-MODIFIED:20240115T104055Z
UID:10003325-1810904400-1810922400@ganterplaner.de
SUMMARY:Wochenmarkt Ganderkesee
DESCRIPTION:
URL:https://ganterplaner.de/veranstaltungen/wochenmarkt-ganderkesee/2027-05-21/
LOCATION:Marktplatz Ganderkesee\, Markt\, Ganderkesee\, Niedersachsen\, 27777
CATEGORIES:Wochenmärkte
END:VEVENT
BEGIN:VEVENT
DTSTART;TZID=UTC:20270522T070000
DTEND;TZID=UTC:20270522T140000
DTSTAMP:20260426T020110
CREATED:20231113T043437Z
LAST-MODIFIED:20250808T082335Z
UID:10002543-1810969200-1810994400@ganterplaner.de
SUMMARY:Wochenmarkt Oldenburg
DESCRIPTION:
URL:https://ganterplaner.de/veranstaltungen/wochenmarkt-oldenburg-2/2027-05-22/
LOCATION:Niedersachsen
CATEGORIES:Wochenmärkte
END:VEVENT
BEGIN:VEVENT
DTSTART;TZID=UTC:20270525T070000
DTEND;TZID=UTC:20270525T133000
DTSTAMP:20260426T020110
CREATED:20231108T141448Z
LAST-MODIFIED:20240115T104011Z
UID:10001946-1811228400-1811251800@ganterplaner.de
SUMMARY:Wochenmarkt Oldenburg
DESCRIPTION:Der Wochenmarkt am Pferdemarkt ist der größte der städtischen Wochenmärkte. Vom Frühjahr bis zum Herbst werden hier an bis zu 75 Marktständen Waren angeboten. Im Winter fehlen jahreszeitlich bedingt einige der Anbieter wie Baumschulen und Gärtnereien. \nZusätzlich zu den Dauerbeschickerinnen und Dauerbeschickern sind hier auch Verkäuferinen und Verkäufer zu finden\, die ihre Waren nur an einigen Markttagen im Jahr anbieten\, wie zum Beispiel Haushaltsartikel\, Tees\, Nistkästen und Insektenhotels sowie Kleidung oder Kurzwaren und Tischdecken. Auf dem Pferdemarkt sind viele Anbieterinen und Anbieter anzutreffen\, die Ihre Waren selber produzieren. Dabei können Sie auf eine große Produktvielfalt zurückgreifen\, die von Gemüsejungpflanzen über Blumen und Sträucher bis hin zu Obst und Gemüse sowie Kuchen und Käse reicht. \n 
URL:https://ganterplaner.de/veranstaltungen/wochenmarkt-oldenburg/2027-05-25/
LOCATION:Pferdemarkt Oldenburg\, Pferdemarkt\, Oldenburg\, Niedersachsen\, 26121\, Deutschland
CATEGORIES:Wochenmärkte
END:VEVENT
BEGIN:VEVENT
DTSTART;TZID=UTC:20270527T070000
DTEND;TZID=UTC:20270527T133000
DTSTAMP:20260426T020110
CREATED:20231108T141448Z
LAST-MODIFIED:20240115T104011Z
UID:10001947-1811401200-1811424600@ganterplaner.de
SUMMARY:Wochenmarkt Oldenburg
DESCRIPTION:Der Wochenmarkt am Pferdemarkt ist der größte der städtischen Wochenmärkte. Vom Frühjahr bis zum Herbst werden hier an bis zu 75 Marktständen Waren angeboten. Im Winter fehlen jahreszeitlich bedingt einige der Anbieter wie Baumschulen und Gärtnereien. \nZusätzlich zu den Dauerbeschickerinnen und Dauerbeschickern sind hier auch Verkäuferinen und Verkäufer zu finden\, die ihre Waren nur an einigen Markttagen im Jahr anbieten\, wie zum Beispiel Haushaltsartikel\, Tees\, Nistkästen und Insektenhotels sowie Kleidung oder Kurzwaren und Tischdecken. Auf dem Pferdemarkt sind viele Anbieterinen und Anbieter anzutreffen\, die Ihre Waren selber produzieren. Dabei können Sie auf eine große Produktvielfalt zurückgreifen\, die von Gemüsejungpflanzen über Blumen und Sträucher bis hin zu Obst und Gemüse sowie Kuchen und Käse reicht. \n 
URL:https://ganterplaner.de/veranstaltungen/wochenmarkt-oldenburg/2027-05-27/
LOCATION:Pferdemarkt Oldenburg\, Pferdemarkt\, Oldenburg\, Niedersachsen\, 26121\, Deutschland
CATEGORIES:Wochenmärkte
END:VEVENT
BEGIN:VEVENT
DTSTART;TZID=UTC:20270528T130000
DTEND;TZID=UTC:20270528T180000
DTSTAMP:20260426T020110
CREATED:20231113T045334Z
LAST-MODIFIED:20240115T104055Z
UID:10003804-1811509200-1811527200@ganterplaner.de
SUMMARY:Wochenmarkt Ganderkesee
DESCRIPTION:
URL:https://ganterplaner.de/veranstaltungen/wochenmarkt-ganderkesee/2027-05-28/
LOCATION:Marktplatz Ganderkesee\, Markt\, Ganderkesee\, Niedersachsen\, 27777
CATEGORIES:Wochenmärkte
END:VEVENT
BEGIN:VEVENT
DTSTART;TZID=UTC:20270529T070000
DTEND;TZID=UTC:20270529T140000
DTSTAMP:20260426T020110
CREATED:20231113T043437Z
LAST-MODIFIED:20250808T082335Z
UID:10002544-1811574000-1811599200@ganterplaner.de
SUMMARY:Wochenmarkt Oldenburg
DESCRIPTION:
URL:https://ganterplaner.de/veranstaltungen/wochenmarkt-oldenburg-2/2027-05-29/
LOCATION:Niedersachsen
CATEGORIES:Wochenmärkte
END:VEVENT
END:VCALENDAR