BEGIN:VCALENDAR
VERSION:2.0
PRODID:-//GanterPlaner - ECPv6.15.20//NONSGML v1.0//EN
CALSCALE:GREGORIAN
METHOD:PUBLISH
X-ORIGINAL-URL:https://ganterplaner.de
X-WR-CALDESC:Veranstaltungen für GanterPlaner
REFRESH-INTERVAL;VALUE=DURATION:PT1H
X-Robots-Tag:noindex
X-PUBLISHED-TTL:PT1H
BEGIN:VTIMEZONE
TZID:UTC
BEGIN:STANDARD
TZOFFSETFROM:+0000
TZOFFSETTO:+0000
TZNAME:UTC
DTSTART:20260101T000000
END:STANDARD
END:VTIMEZONE
BEGIN:VEVENT
DTSTART;TZID=UTC:20270101T130000
DTEND;TZID=UTC:20270101T180000
DTSTAMP:20260425T195412
CREATED:20231113T045334Z
LAST-MODIFIED:20240115T104055Z
UID:10003788-1798808400-1798826400@ganterplaner.de
SUMMARY:Wochenmarkt Ganderkesee
DESCRIPTION:
URL:https://ganterplaner.de/veranstaltungen/wochenmarkt-ganderkesee/2027-01-01/
LOCATION:Marktplatz Ganderkesee\, Markt\, Ganderkesee\, Niedersachsen\, 27777
CATEGORIES:Wochenmärkte
END:VEVENT
BEGIN:VEVENT
DTSTART;TZID=UTC:20270102T070000
DTEND;TZID=UTC:20270102T140000
DTSTAMP:20260425T195412
CREATED:20231113T043437Z
LAST-MODIFIED:20250808T082335Z
UID:10002523-1798873200-1798898400@ganterplaner.de
SUMMARY:Wochenmarkt Oldenburg
DESCRIPTION:
URL:https://ganterplaner.de/veranstaltungen/wochenmarkt-oldenburg-2/2027-01-02/
LOCATION:Niedersachsen
CATEGORIES:Wochenmärkte
END:VEVENT
BEGIN:VEVENT
DTSTART;TZID=UTC:20270105T070000
DTEND;TZID=UTC:20270105T133000
DTSTAMP:20260425T195412
CREATED:20231108T141448Z
LAST-MODIFIED:20240115T104011Z
UID:10001906-1799132400-1799155800@ganterplaner.de
SUMMARY:Wochenmarkt Oldenburg
DESCRIPTION:Der Wochenmarkt am Pferdemarkt ist der größte der städtischen Wochenmärkte. Vom Frühjahr bis zum Herbst werden hier an bis zu 75 Marktständen Waren angeboten. Im Winter fehlen jahreszeitlich bedingt einige der Anbieter wie Baumschulen und Gärtnereien. \nZusätzlich zu den Dauerbeschickerinnen und Dauerbeschickern sind hier auch Verkäuferinen und Verkäufer zu finden\, die ihre Waren nur an einigen Markttagen im Jahr anbieten\, wie zum Beispiel Haushaltsartikel\, Tees\, Nistkästen und Insektenhotels sowie Kleidung oder Kurzwaren und Tischdecken. Auf dem Pferdemarkt sind viele Anbieterinen und Anbieter anzutreffen\, die Ihre Waren selber produzieren. Dabei können Sie auf eine große Produktvielfalt zurückgreifen\, die von Gemüsejungpflanzen über Blumen und Sträucher bis hin zu Obst und Gemüse sowie Kuchen und Käse reicht. \n 
URL:https://ganterplaner.de/veranstaltungen/wochenmarkt-oldenburg/2027-01-05/
LOCATION:Pferdemarkt Oldenburg\, Pferdemarkt\, Oldenburg\, Niedersachsen\, 26121\, Deutschland
CATEGORIES:Wochenmärkte
END:VEVENT
BEGIN:VEVENT
DTSTART;TZID=UTC:20270105T160000
DTEND;TZID=UTC:20270105T190000
DTSTAMP:20260425T195412
CREATED:20260219T075904Z
LAST-MODIFIED:20260219T075905Z
UID:10005112-1799164800-1799175600@ganterplaner.de
SUMMARY:Repair Café Wildeshausen
DESCRIPTION:Lieblingsgerät kaputt? \nDann komm ins Repair-Café! Ehrenamtliche Helfer:innen unterstützen dich beim Reparieren deiner Kleingeräte in den Bereichen Elektronik\, Mechanik\, Textil und mehr – soweit es möglich ist. Reparieren statt Wegwerfen! \n📅  jeweils am 1. Dienstag im Monat\, außerhalb der Schulferien\n⏰ Uhrzeit: 16:00 – 19:00 Uhr\n👉 Annahmeschluss: 18:30 Uhr
URL:https://ganterplaner.de/veranstaltungen/repair-cafe-wildeshausen-2/2027-01-05/
LOCATION:Hauptschule Wildeshausen\, Humboldtstraße 1\, Wildeshausen\, Niedersachsen\, 27793\, Deutschland
END:VEVENT
BEGIN:VEVENT
DTSTART;TZID=UTC:20270107T070000
DTEND;TZID=UTC:20270107T133000
DTSTAMP:20260425T195412
CREATED:20231108T141448Z
LAST-MODIFIED:20240115T104011Z
UID:10001907-1799305200-1799328600@ganterplaner.de
SUMMARY:Wochenmarkt Oldenburg
DESCRIPTION:Der Wochenmarkt am Pferdemarkt ist der größte der städtischen Wochenmärkte. Vom Frühjahr bis zum Herbst werden hier an bis zu 75 Marktständen Waren angeboten. Im Winter fehlen jahreszeitlich bedingt einige der Anbieter wie Baumschulen und Gärtnereien. \nZusätzlich zu den Dauerbeschickerinnen und Dauerbeschickern sind hier auch Verkäuferinen und Verkäufer zu finden\, die ihre Waren nur an einigen Markttagen im Jahr anbieten\, wie zum Beispiel Haushaltsartikel\, Tees\, Nistkästen und Insektenhotels sowie Kleidung oder Kurzwaren und Tischdecken. Auf dem Pferdemarkt sind viele Anbieterinen und Anbieter anzutreffen\, die Ihre Waren selber produzieren. Dabei können Sie auf eine große Produktvielfalt zurückgreifen\, die von Gemüsejungpflanzen über Blumen und Sträucher bis hin zu Obst und Gemüse sowie Kuchen und Käse reicht. \n 
URL:https://ganterplaner.de/veranstaltungen/wochenmarkt-oldenburg/2027-01-07/
LOCATION:Pferdemarkt Oldenburg\, Pferdemarkt\, Oldenburg\, Niedersachsen\, 26121\, Deutschland
CATEGORIES:Wochenmärkte
END:VEVENT
BEGIN:VEVENT
DTSTART;TZID=UTC:20270108T130000
DTEND;TZID=UTC:20270108T180000
DTSTAMP:20260425T195412
CREATED:20231113T045334Z
LAST-MODIFIED:20240115T104055Z
UID:10003789-1799413200-1799431200@ganterplaner.de
SUMMARY:Wochenmarkt Ganderkesee
DESCRIPTION:
URL:https://ganterplaner.de/veranstaltungen/wochenmarkt-ganderkesee/2027-01-08/
LOCATION:Marktplatz Ganderkesee\, Markt\, Ganderkesee\, Niedersachsen\, 27777
CATEGORIES:Wochenmärkte
END:VEVENT
BEGIN:VEVENT
DTSTART;TZID=UTC:20270109T070000
DTEND;TZID=UTC:20270109T140000
DTSTAMP:20260425T195412
CREATED:20231113T043437Z
LAST-MODIFIED:20250808T082335Z
UID:10002524-1799478000-1799503200@ganterplaner.de
SUMMARY:Wochenmarkt Oldenburg
DESCRIPTION:
URL:https://ganterplaner.de/veranstaltungen/wochenmarkt-oldenburg-2/2027-01-09/
LOCATION:Niedersachsen
CATEGORIES:Wochenmärkte
END:VEVENT
BEGIN:VEVENT
DTSTART;TZID=UTC:20270110T120000
DTEND;TZID=UTC:20270110T170000
DTSTAMP:20260425T195412
CREATED:20231113T134834Z
LAST-MODIFIED:20260319T154033Z
UID:10003880-1799582400-1799600400@ganterplaner.de
SUMMARY:KNUTschen - Das Schredderfest
DESCRIPTION:Auf dem Marktplatz Ganderkesee\n12-17 Uhr verkaufsoffen im Ortskern\nWohin mit dem ausgedienten Weihnachtsbaum? Ganz einfach: ab zum KNUTschen!\, dem traditionellen Schredderfest auf dem Ganderkeseer Marktplatz. \nAm 10. Januar ab 12 Uhr können abgeschmückte Weihnachtsbäume abgegeben werden. Das Team von Volker Kreye übernimmt das fachgerechte Schreddern. \nAls Dankeschön gibt es einen KNUTschein\, der am verkaufsoffenen Sonntag von 12–17 Uhr in teilnehmenden Geschäften eingelöst werden kann. Jeder KNUTschein hat je nach Geschäft einen unterschiedlichen Wert.
URL:https://ganterplaner.de/veranstaltungen/knutschen-das-schredderfest/
LOCATION:Marktplatz Ganderkesee\, Markt\, Ganderkesee\, Niedersachsen\, 27777
CATEGORIES:Verkaufsoffene Sonntage
ORGANIZER;CN="GanterMarkt Ganderkesee e.V.":MAILTO:veranstaltung@gantermarkt.de
END:VEVENT
BEGIN:VEVENT
DTSTART;TZID=UTC:20270112T070000
DTEND;TZID=UTC:20270112T133000
DTSTAMP:20260425T195412
CREATED:20231108T141448Z
LAST-MODIFIED:20240115T104011Z
UID:10001908-1799737200-1799760600@ganterplaner.de
SUMMARY:Wochenmarkt Oldenburg
DESCRIPTION:Der Wochenmarkt am Pferdemarkt ist der größte der städtischen Wochenmärkte. Vom Frühjahr bis zum Herbst werden hier an bis zu 75 Marktständen Waren angeboten. Im Winter fehlen jahreszeitlich bedingt einige der Anbieter wie Baumschulen und Gärtnereien. \nZusätzlich zu den Dauerbeschickerinnen und Dauerbeschickern sind hier auch Verkäuferinen und Verkäufer zu finden\, die ihre Waren nur an einigen Markttagen im Jahr anbieten\, wie zum Beispiel Haushaltsartikel\, Tees\, Nistkästen und Insektenhotels sowie Kleidung oder Kurzwaren und Tischdecken. Auf dem Pferdemarkt sind viele Anbieterinen und Anbieter anzutreffen\, die Ihre Waren selber produzieren. Dabei können Sie auf eine große Produktvielfalt zurückgreifen\, die von Gemüsejungpflanzen über Blumen und Sträucher bis hin zu Obst und Gemüse sowie Kuchen und Käse reicht. \n 
URL:https://ganterplaner.de/veranstaltungen/wochenmarkt-oldenburg/2027-01-12/
LOCATION:Pferdemarkt Oldenburg\, Pferdemarkt\, Oldenburg\, Niedersachsen\, 26121\, Deutschland
CATEGORIES:Wochenmärkte
END:VEVENT
BEGIN:VEVENT
DTSTART;TZID=UTC:20270112T170000
DTEND;TZID=UTC:20270112T190000
DTSTAMP:20260425T195412
CREATED:20250825T075533Z
LAST-MODIFIED:20250825T075903Z
UID:10005041-1799773200-1799780400@ganterplaner.de
SUMMARY:Repair Café Ganderkesee
DESCRIPTION:Reparieren statt Wegwerfen! \nJeden 2. Dienstag im Monat öffnet das Repair-Café in Ganderkesee von 17:00 bis 19:00 Uhr seine Türen. Veranstaltungsort ist der Werkraum der Schule am Habbrügger Weg 4\, 27777 Ganderkesee. 👉 Hinweis: In den Schulferien findet kein Repair-Café statt! \nAngeboten werden Reparaturen an: \n\nKleingeräten in den Bereichen Elektronik & Elektrik\nMechanik\nNäharbeiten\nKlebearbeiten\n\nIm Schnitt besuchen rund 35 Gäste das Repair-Café – eine tolle Resonanz\, die manchmal auch etwas Wartezeit mit sich bringt. Für eine entspannte Atmosphäre sorgen Kaffee und Kekse\, und ein großes Dankeschön geht an alle ehrenamtlichen Helfer:innen!
URL:https://ganterplaner.de/veranstaltungen/repair-cafe-ganderkesee-2/2027-01-12/
LOCATION:Förderzentrum Ganderkesee\, Habbrügger Weg 4\, Ganderkesee\, Niedersachsen\, 27777
CATEGORIES:Event
ATTACH;FMTTYPE=image/png:https://ganterplaner.de/wp-content/uploads/repair-cafe-ganderkesee.png
END:VEVENT
BEGIN:VEVENT
DTSTART;TZID=UTC:20270114T070000
DTEND;TZID=UTC:20270114T133000
DTSTAMP:20260425T195412
CREATED:20231108T141448Z
LAST-MODIFIED:20240115T104011Z
UID:10001909-1799910000-1799933400@ganterplaner.de
SUMMARY:Wochenmarkt Oldenburg
DESCRIPTION:Der Wochenmarkt am Pferdemarkt ist der größte der städtischen Wochenmärkte. Vom Frühjahr bis zum Herbst werden hier an bis zu 75 Marktständen Waren angeboten. Im Winter fehlen jahreszeitlich bedingt einige der Anbieter wie Baumschulen und Gärtnereien. \nZusätzlich zu den Dauerbeschickerinnen und Dauerbeschickern sind hier auch Verkäuferinen und Verkäufer zu finden\, die ihre Waren nur an einigen Markttagen im Jahr anbieten\, wie zum Beispiel Haushaltsartikel\, Tees\, Nistkästen und Insektenhotels sowie Kleidung oder Kurzwaren und Tischdecken. Auf dem Pferdemarkt sind viele Anbieterinen und Anbieter anzutreffen\, die Ihre Waren selber produzieren. Dabei können Sie auf eine große Produktvielfalt zurückgreifen\, die von Gemüsejungpflanzen über Blumen und Sträucher bis hin zu Obst und Gemüse sowie Kuchen und Käse reicht. \n 
URL:https://ganterplaner.de/veranstaltungen/wochenmarkt-oldenburg/2027-01-14/
LOCATION:Pferdemarkt Oldenburg\, Pferdemarkt\, Oldenburg\, Niedersachsen\, 26121\, Deutschland
CATEGORIES:Wochenmärkte
END:VEVENT
BEGIN:VEVENT
DTSTART;TZID=UTC:20270115T130000
DTEND;TZID=UTC:20270115T180000
DTSTAMP:20260425T195412
CREATED:20231113T045334Z
LAST-MODIFIED:20240115T104055Z
UID:10003307-1800018000-1800036000@ganterplaner.de
SUMMARY:Wochenmarkt Ganderkesee
DESCRIPTION:
URL:https://ganterplaner.de/veranstaltungen/wochenmarkt-ganderkesee/2027-01-15/
LOCATION:Marktplatz Ganderkesee\, Markt\, Ganderkesee\, Niedersachsen\, 27777
CATEGORIES:Wochenmärkte
END:VEVENT
BEGIN:VEVENT
DTSTART;TZID=UTC:20270116T070000
DTEND;TZID=UTC:20270116T140000
DTSTAMP:20260425T195412
CREATED:20231113T043437Z
LAST-MODIFIED:20250808T082335Z
UID:10002525-1800082800-1800108000@ganterplaner.de
SUMMARY:Wochenmarkt Oldenburg
DESCRIPTION:
URL:https://ganterplaner.de/veranstaltungen/wochenmarkt-oldenburg-2/2027-01-16/
LOCATION:Niedersachsen
CATEGORIES:Wochenmärkte
END:VEVENT
BEGIN:VEVENT
DTSTART;TZID=UTC:20270119T070000
DTEND;TZID=UTC:20270119T133000
DTSTAMP:20260425T195412
CREATED:20231108T141448Z
LAST-MODIFIED:20240115T104011Z
UID:10001910-1800342000-1800365400@ganterplaner.de
SUMMARY:Wochenmarkt Oldenburg
DESCRIPTION:Der Wochenmarkt am Pferdemarkt ist der größte der städtischen Wochenmärkte. Vom Frühjahr bis zum Herbst werden hier an bis zu 75 Marktständen Waren angeboten. Im Winter fehlen jahreszeitlich bedingt einige der Anbieter wie Baumschulen und Gärtnereien. \nZusätzlich zu den Dauerbeschickerinnen und Dauerbeschickern sind hier auch Verkäuferinen und Verkäufer zu finden\, die ihre Waren nur an einigen Markttagen im Jahr anbieten\, wie zum Beispiel Haushaltsartikel\, Tees\, Nistkästen und Insektenhotels sowie Kleidung oder Kurzwaren und Tischdecken. Auf dem Pferdemarkt sind viele Anbieterinen und Anbieter anzutreffen\, die Ihre Waren selber produzieren. Dabei können Sie auf eine große Produktvielfalt zurückgreifen\, die von Gemüsejungpflanzen über Blumen und Sträucher bis hin zu Obst und Gemüse sowie Kuchen und Käse reicht. \n 
URL:https://ganterplaner.de/veranstaltungen/wochenmarkt-oldenburg/2027-01-19/
LOCATION:Pferdemarkt Oldenburg\, Pferdemarkt\, Oldenburg\, Niedersachsen\, 26121\, Deutschland
CATEGORIES:Wochenmärkte
END:VEVENT
BEGIN:VEVENT
DTSTART;TZID=UTC:20270121T070000
DTEND;TZID=UTC:20270121T133000
DTSTAMP:20260425T195412
CREATED:20231108T141448Z
LAST-MODIFIED:20240115T104011Z
UID:10001911-1800514800-1800538200@ganterplaner.de
SUMMARY:Wochenmarkt Oldenburg
DESCRIPTION:Der Wochenmarkt am Pferdemarkt ist der größte der städtischen Wochenmärkte. Vom Frühjahr bis zum Herbst werden hier an bis zu 75 Marktständen Waren angeboten. Im Winter fehlen jahreszeitlich bedingt einige der Anbieter wie Baumschulen und Gärtnereien. \nZusätzlich zu den Dauerbeschickerinnen und Dauerbeschickern sind hier auch Verkäuferinen und Verkäufer zu finden\, die ihre Waren nur an einigen Markttagen im Jahr anbieten\, wie zum Beispiel Haushaltsartikel\, Tees\, Nistkästen und Insektenhotels sowie Kleidung oder Kurzwaren und Tischdecken. Auf dem Pferdemarkt sind viele Anbieterinen und Anbieter anzutreffen\, die Ihre Waren selber produzieren. Dabei können Sie auf eine große Produktvielfalt zurückgreifen\, die von Gemüsejungpflanzen über Blumen und Sträucher bis hin zu Obst und Gemüse sowie Kuchen und Käse reicht. \n 
URL:https://ganterplaner.de/veranstaltungen/wochenmarkt-oldenburg/2027-01-21/
LOCATION:Pferdemarkt Oldenburg\, Pferdemarkt\, Oldenburg\, Niedersachsen\, 26121\, Deutschland
CATEGORIES:Wochenmärkte
END:VEVENT
BEGIN:VEVENT
DTSTART;TZID=UTC:20270122T130000
DTEND;TZID=UTC:20270122T180000
DTSTAMP:20260425T195412
CREATED:20231113T045334Z
LAST-MODIFIED:20240115T104055Z
UID:10003790-1800622800-1800640800@ganterplaner.de
SUMMARY:Wochenmarkt Ganderkesee
DESCRIPTION:
URL:https://ganterplaner.de/veranstaltungen/wochenmarkt-ganderkesee/2027-01-22/
LOCATION:Marktplatz Ganderkesee\, Markt\, Ganderkesee\, Niedersachsen\, 27777
CATEGORIES:Wochenmärkte
END:VEVENT
BEGIN:VEVENT
DTSTART;TZID=UTC:20270123T070000
DTEND;TZID=UTC:20270123T140000
DTSTAMP:20260425T195412
CREATED:20231113T043437Z
LAST-MODIFIED:20250808T082335Z
UID:10002526-1800687600-1800712800@ganterplaner.de
SUMMARY:Wochenmarkt Oldenburg
DESCRIPTION:
URL:https://ganterplaner.de/veranstaltungen/wochenmarkt-oldenburg-2/2027-01-23/
LOCATION:Niedersachsen
CATEGORIES:Wochenmärkte
END:VEVENT
BEGIN:VEVENT
DTSTART;TZID=UTC:20270126T070000
DTEND;TZID=UTC:20270126T133000
DTSTAMP:20260425T195412
CREATED:20231108T141448Z
LAST-MODIFIED:20240115T104011Z
UID:10001912-1800946800-1800970200@ganterplaner.de
SUMMARY:Wochenmarkt Oldenburg
DESCRIPTION:Der Wochenmarkt am Pferdemarkt ist der größte der städtischen Wochenmärkte. Vom Frühjahr bis zum Herbst werden hier an bis zu 75 Marktständen Waren angeboten. Im Winter fehlen jahreszeitlich bedingt einige der Anbieter wie Baumschulen und Gärtnereien. \nZusätzlich zu den Dauerbeschickerinnen und Dauerbeschickern sind hier auch Verkäuferinen und Verkäufer zu finden\, die ihre Waren nur an einigen Markttagen im Jahr anbieten\, wie zum Beispiel Haushaltsartikel\, Tees\, Nistkästen und Insektenhotels sowie Kleidung oder Kurzwaren und Tischdecken. Auf dem Pferdemarkt sind viele Anbieterinen und Anbieter anzutreffen\, die Ihre Waren selber produzieren. Dabei können Sie auf eine große Produktvielfalt zurückgreifen\, die von Gemüsejungpflanzen über Blumen und Sträucher bis hin zu Obst und Gemüse sowie Kuchen und Käse reicht. \n 
URL:https://ganterplaner.de/veranstaltungen/wochenmarkt-oldenburg/2027-01-26/
LOCATION:Pferdemarkt Oldenburg\, Pferdemarkt\, Oldenburg\, Niedersachsen\, 26121\, Deutschland
CATEGORIES:Wochenmärkte
END:VEVENT
BEGIN:VEVENT
DTSTART;TZID=UTC:20270128T070000
DTEND;TZID=UTC:20270128T133000
DTSTAMP:20260425T195412
CREATED:20231108T141448Z
LAST-MODIFIED:20240115T104011Z
UID:10001913-1801119600-1801143000@ganterplaner.de
SUMMARY:Wochenmarkt Oldenburg
DESCRIPTION:Der Wochenmarkt am Pferdemarkt ist der größte der städtischen Wochenmärkte. Vom Frühjahr bis zum Herbst werden hier an bis zu 75 Marktständen Waren angeboten. Im Winter fehlen jahreszeitlich bedingt einige der Anbieter wie Baumschulen und Gärtnereien. \nZusätzlich zu den Dauerbeschickerinnen und Dauerbeschickern sind hier auch Verkäuferinen und Verkäufer zu finden\, die ihre Waren nur an einigen Markttagen im Jahr anbieten\, wie zum Beispiel Haushaltsartikel\, Tees\, Nistkästen und Insektenhotels sowie Kleidung oder Kurzwaren und Tischdecken. Auf dem Pferdemarkt sind viele Anbieterinen und Anbieter anzutreffen\, die Ihre Waren selber produzieren. Dabei können Sie auf eine große Produktvielfalt zurückgreifen\, die von Gemüsejungpflanzen über Blumen und Sträucher bis hin zu Obst und Gemüse sowie Kuchen und Käse reicht. \n 
URL:https://ganterplaner.de/veranstaltungen/wochenmarkt-oldenburg/2027-01-28/
LOCATION:Pferdemarkt Oldenburg\, Pferdemarkt\, Oldenburg\, Niedersachsen\, 26121\, Deutschland
CATEGORIES:Wochenmärkte
END:VEVENT
BEGIN:VEVENT
DTSTART;TZID=UTC:20270129T130000
DTEND;TZID=UTC:20270129T180000
DTSTAMP:20260425T195412
CREATED:20231113T045334Z
LAST-MODIFIED:20240115T104055Z
UID:10003791-1801227600-1801245600@ganterplaner.de
SUMMARY:Wochenmarkt Ganderkesee
DESCRIPTION:
URL:https://ganterplaner.de/veranstaltungen/wochenmarkt-ganderkesee/2027-01-29/
LOCATION:Marktplatz Ganderkesee\, Markt\, Ganderkesee\, Niedersachsen\, 27777
CATEGORIES:Wochenmärkte
END:VEVENT
BEGIN:VEVENT
DTSTART;TZID=UTC:20270130T070000
DTEND;TZID=UTC:20270130T140000
DTSTAMP:20260425T195412
CREATED:20231113T043437Z
LAST-MODIFIED:20250808T082335Z
UID:10002527-1801292400-1801317600@ganterplaner.de
SUMMARY:Wochenmarkt Oldenburg
DESCRIPTION:
URL:https://ganterplaner.de/veranstaltungen/wochenmarkt-oldenburg-2/2027-01-30/
LOCATION:Niedersachsen
CATEGORIES:Wochenmärkte
END:VEVENT
END:VCALENDAR