BEGIN:VCALENDAR
VERSION:2.0
PRODID:-//GanterPlaner - ECPv6.15.20//NONSGML v1.0//EN
CALSCALE:GREGORIAN
METHOD:PUBLISH
X-ORIGINAL-URL:https://ganterplaner.de
X-WR-CALDESC:Veranstaltungen für GanterPlaner
REFRESH-INTERVAL;VALUE=DURATION:PT1H
X-Robots-Tag:noindex
X-PUBLISHED-TTL:PT1H
BEGIN:VTIMEZONE
TZID:UTC
BEGIN:STANDARD
TZOFFSETFROM:+0000
TZOFFSETTO:+0000
TZNAME:UTC
DTSTART:20250101T000000
END:STANDARD
END:VTIMEZONE
BEGIN:VEVENT
DTSTART;TZID=UTC:20261201T070000
DTEND;TZID=UTC:20261201T133000
DTSTAMP:20260425T182034
CREATED:20231108T141448Z
LAST-MODIFIED:20240115T104011Z
UID:10001896-1796108400-1796131800@ganterplaner.de
SUMMARY:Wochenmarkt Oldenburg
DESCRIPTION:Der Wochenmarkt am Pferdemarkt ist der größte der städtischen Wochenmärkte. Vom Frühjahr bis zum Herbst werden hier an bis zu 75 Marktständen Waren angeboten. Im Winter fehlen jahreszeitlich bedingt einige der Anbieter wie Baumschulen und Gärtnereien. \nZusätzlich zu den Dauerbeschickerinnen und Dauerbeschickern sind hier auch Verkäuferinen und Verkäufer zu finden\, die ihre Waren nur an einigen Markttagen im Jahr anbieten\, wie zum Beispiel Haushaltsartikel\, Tees\, Nistkästen und Insektenhotels sowie Kleidung oder Kurzwaren und Tischdecken. Auf dem Pferdemarkt sind viele Anbieterinen und Anbieter anzutreffen\, die Ihre Waren selber produzieren. Dabei können Sie auf eine große Produktvielfalt zurückgreifen\, die von Gemüsejungpflanzen über Blumen und Sträucher bis hin zu Obst und Gemüse sowie Kuchen und Käse reicht. \n 
URL:https://ganterplaner.de/veranstaltungen/wochenmarkt-oldenburg/2026-12-01/
LOCATION:Pferdemarkt Oldenburg\, Pferdemarkt\, Oldenburg\, Niedersachsen\, 26121\, Deutschland
CATEGORIES:Wochenmärkte
END:VEVENT
BEGIN:VEVENT
DTSTART;TZID=UTC:20261201T160000
DTEND;TZID=UTC:20261201T190000
DTSTAMP:20260425T182034
CREATED:20260219T075904Z
LAST-MODIFIED:20260219T075905Z
UID:10005111-1796140800-1796151600@ganterplaner.de
SUMMARY:Repair Café Wildeshausen
DESCRIPTION:Lieblingsgerät kaputt? \nDann komm ins Repair-Café! Ehrenamtliche Helfer:innen unterstützen dich beim Reparieren deiner Kleingeräte in den Bereichen Elektronik\, Mechanik\, Textil und mehr – soweit es möglich ist. Reparieren statt Wegwerfen! \n📅  jeweils am 1. Dienstag im Monat\, außerhalb der Schulferien\n⏰ Uhrzeit: 16:00 – 19:00 Uhr\n👉 Annahmeschluss: 18:30 Uhr
URL:https://ganterplaner.de/veranstaltungen/repair-cafe-wildeshausen-2/2026-12-01/
LOCATION:Hauptschule Wildeshausen\, Humboldtstraße 1\, Wildeshausen\, Niedersachsen\, 27793\, Deutschland
END:VEVENT
BEGIN:VEVENT
DTSTART;TZID=UTC:20261201T193000
DTEND;TZID=UTC:20261201T210000
DTSTAMP:20260425T182034
CREATED:20241211T092028Z
LAST-MODIFIED:20251202T120358Z
UID:10005297-1796153400-1796158800@ganterplaner.de
SUMMARY:Literatur in der Remise
DESCRIPTION:Die Lesungen finden in der „Remise“ statt.\nDie Remise\, direkt neben der „Klosterschänke“ in Hude gelegen\, gehört zum Bereich des ehemaligen Huder Zisterzienserklosters.\nDer örtliche Rahmen ist für bis zu zwanzig Gäste gedacht und sehr ansprechend gestaltet.\nAuch die Presse besucht diese Veranstaltungen gern und berichtet entsprechend. \nNach den Lesungen gibt es -bei dem ein oder anderen Getränk- immer wieder zwanglose Diskussionen mit den Autorinnen bzw. Autoren.\nIn der kalten Jahreszeit immer auch gern am prasselnden Kaminfeuer.
URL:https://ganterplaner.de/veranstaltungen/literatur-in-der-remise-hude/2026-12-01/
LOCATION:Remise Hude\, Von-Witzleben-Allee 3\, Hude\, Niedersachsen\, 27798
CATEGORIES:Lesung
END:VEVENT
BEGIN:VEVENT
DTSTART;TZID=UTC:20261203T070000
DTEND;TZID=UTC:20261203T133000
DTSTAMP:20260425T182034
CREATED:20231108T141448Z
LAST-MODIFIED:20240115T104011Z
UID:10001897-1796281200-1796304600@ganterplaner.de
SUMMARY:Wochenmarkt Oldenburg
DESCRIPTION:Der Wochenmarkt am Pferdemarkt ist der größte der städtischen Wochenmärkte. Vom Frühjahr bis zum Herbst werden hier an bis zu 75 Marktständen Waren angeboten. Im Winter fehlen jahreszeitlich bedingt einige der Anbieter wie Baumschulen und Gärtnereien. \nZusätzlich zu den Dauerbeschickerinnen und Dauerbeschickern sind hier auch Verkäuferinen und Verkäufer zu finden\, die ihre Waren nur an einigen Markttagen im Jahr anbieten\, wie zum Beispiel Haushaltsartikel\, Tees\, Nistkästen und Insektenhotels sowie Kleidung oder Kurzwaren und Tischdecken. Auf dem Pferdemarkt sind viele Anbieterinen und Anbieter anzutreffen\, die Ihre Waren selber produzieren. Dabei können Sie auf eine große Produktvielfalt zurückgreifen\, die von Gemüsejungpflanzen über Blumen und Sträucher bis hin zu Obst und Gemüse sowie Kuchen und Käse reicht. \n 
URL:https://ganterplaner.de/veranstaltungen/wochenmarkt-oldenburg/2026-12-03/
LOCATION:Pferdemarkt Oldenburg\, Pferdemarkt\, Oldenburg\, Niedersachsen\, 26121\, Deutschland
CATEGORIES:Wochenmärkte
END:VEVENT
BEGIN:VEVENT
DTSTART;VALUE=DATE:20261204
DTEND;VALUE=DATE:20261207
DTSTAMP:20260425T182034
CREATED:20231219T144717Z
LAST-MODIFIED:20260319T153849Z
UID:10004474-1796342400-1796601599@ganterplaner.de
SUMMARY:Ganderkeseer Weihnachtsmarkt
DESCRIPTION:Seit 2016 veranstaltet der Förderverein der Kinder- und Jugendgarden bei der GGV e.V. den Ganderkeseer Weihnachtsmarkt auf dem Friedrich-Bultmann-Platz vor dem alten Rathaus (regioVHS). \nBesonderheit des Weihnachtsmarktes\nDer Ganderkeseer Weihnachtsmarkt ist einer der kleinsten der Region und zeichnet sich durch seine familiäre Atmosphäre aus. Im Gegensatz zu kommerziellen Märkten arbeiten hier alle Beteiligten ehrenamtlich. Der gesamte Erlös kommt den Kindern und Jugendlichen beim Fasching sowie dem Roten Kreuz zugute—selbst der letzte Cent Trinkgeld. Obwohl wir keine Sponsoren benötigen\, sind wir für jede finanzielle Unterstützung dankbar. \nDie Weihnachtsbäume werden von der Werbegemeinschaft GanterMarkt Ganderkesee e.V. gespendet.
URL:https://ganterplaner.de/veranstaltungen/ganderkeseer-weihnachtsmarkt/
LOCATION:Friedrich-Bultmann-Platz Ganderkesee\, Rathausstraße 24\, Ganderkesee\, Niedersachsen\, 27777
CATEGORIES:Fasching,Weihnachten
END:VEVENT
BEGIN:VEVENT
DTSTART;TZID=UTC:20261204T130000
DTEND;TZID=UTC:20261204T180000
DTSTAMP:20260425T182034
CREATED:20231113T045334Z
LAST-MODIFIED:20240115T104055Z
UID:10003785-1796389200-1796407200@ganterplaner.de
SUMMARY:Wochenmarkt Ganderkesee
DESCRIPTION:
URL:https://ganterplaner.de/veranstaltungen/wochenmarkt-ganderkesee/2026-12-04/
LOCATION:Marktplatz Ganderkesee\, Markt\, Ganderkesee\, Niedersachsen\, 27777
CATEGORIES:Wochenmärkte
END:VEVENT
BEGIN:VEVENT
DTSTART;TZID=UTC:20261204T170000
DTEND;TZID=UTC:20261204T170000
DTSTAMP:20260425T182034
CREATED:20251126T102108Z
LAST-MODIFIED:20251126T102108Z
UID:10005214-1796403600-1796403600@ganterplaner.de
SUMMARY:HoHoHo! - Großes Saunaevent
DESCRIPTION:Weihnachtliches Schwitzen in der Sauna \n– Eventtickets sind vorab erhältlich (direkt vor Ort/im Onlineshop)\n– Mit Buffet\, Aufguss-Zeremonien\, stimmungsvoll beleuchtetem Saunagarten und Deko\n– „Hüllenloses baden“ im Erlebnisbereich von 20.00 bis 23.00 Uhr\n– Preis: 59\,- Euro (Vorverkauf\, Onlineshop)\, 65\,- Euro (Abendkasse)\n– Uhrzeit: 17.00 bis 0.00 Uhr \nWir freuen uns\, Sie bei unseren liebevoll vorbereiteten Events und Specials in unserer GraftTherme zu begrüßen.
URL:https://ganterplaner.de/veranstaltungen/hohoho-saunaevent/
LOCATION:GraftTherme Delmenhorst\, Am Stadtbad 2\, Delmenhorst\, Niedersachsen\, 27753
CATEGORIES:Event
END:VEVENT
BEGIN:VEVENT
DTSTART;TZID=UTC:20261205T070000
DTEND;TZID=UTC:20261205T140000
DTSTAMP:20260425T182034
CREATED:20231113T043437Z
LAST-MODIFIED:20250808T082335Z
UID:10002519-1796454000-1796479200@ganterplaner.de
SUMMARY:Wochenmarkt Oldenburg
DESCRIPTION:
URL:https://ganterplaner.de/veranstaltungen/wochenmarkt-oldenburg-2/2026-12-05/
LOCATION:Niedersachsen
CATEGORIES:Wochenmärkte
END:VEVENT
BEGIN:VEVENT
DTSTART;TZID=UTC:20261205T090000
DTEND;TZID=UTC:20261205T120000
DTSTAMP:20260425T182034
CREATED:20231219T144823Z
LAST-MODIFIED:20251202T115411Z
UID:10005287-1796461200-1796472000@ganterplaner.de
SUMMARY:Repair Café Hude
DESCRIPTION:Reparieren statt wegwerfen! \nBei den kostenlosen Veranstaltungen kommen Reparaturkenner/innen und Besucher/innen mit kaputten Gegenständen bei Kaffee und Kuchen zusammen\, um diese bestenfalls gemeinsam zu reparieren. \nEtwas mehr als die Hälfte der defekten Dinge können vor Ort gemeinsam instand gesetzt und damit vor dem Wegwerfen bewahrt werden. Ein tolles Ergebnis! \nDie Einladung zum Repair-Café richtet sich an Jung und Alt\, an alle\, die einen liebgewonnenen kaputten Gegenstand reparieren möchten\, eine Frage an die Reparateur/innen haben oder einfach nur neugierig sind. Herzlich willkommen sind ebenfalls alle\, die ihre handwerklichen Begabungen\, ob für Näh- oder Holzarbeiten oder Reparaturen von Alltagsgegenständen sowie ihre Tüftel- oder Organisationsbegeisterung gerne einbringen möchten. Gesucht werden häufig auch Elektrofachkräfte\, die ein Repair-Café begleiten würden. \nIm Vordergrund dieser Repair-Cafés steht ein nachhaltiger Umgang mit unseren Ressourcen. Dabei macht das gemeinschaftliche Reparieren häufig Spaß\, schafft neue Begegnungen und schont den Geldbeutel. \n 
URL:https://ganterplaner.de/veranstaltungen/repair-cafe-hude-11/2026-12-05/
LOCATION:Kulturhof Hude\, Parkstraße 106\, Hude\, Niedersachsen\, 27798
CATEGORIES:Event
ATTACH;FMTTYPE=image/jpeg:https://ganterplaner.de/wp-content/uploads/repair-cafe-hude.jpg
END:VEVENT
BEGIN:VEVENT
DTSTART;TZID=UTC:20261208T070000
DTEND;TZID=UTC:20261208T133000
DTSTAMP:20260425T182034
CREATED:20231108T141448Z
LAST-MODIFIED:20240115T104011Z
UID:10001898-1796713200-1796736600@ganterplaner.de
SUMMARY:Wochenmarkt Oldenburg
DESCRIPTION:Der Wochenmarkt am Pferdemarkt ist der größte der städtischen Wochenmärkte. Vom Frühjahr bis zum Herbst werden hier an bis zu 75 Marktständen Waren angeboten. Im Winter fehlen jahreszeitlich bedingt einige der Anbieter wie Baumschulen und Gärtnereien. \nZusätzlich zu den Dauerbeschickerinnen und Dauerbeschickern sind hier auch Verkäuferinen und Verkäufer zu finden\, die ihre Waren nur an einigen Markttagen im Jahr anbieten\, wie zum Beispiel Haushaltsartikel\, Tees\, Nistkästen und Insektenhotels sowie Kleidung oder Kurzwaren und Tischdecken. Auf dem Pferdemarkt sind viele Anbieterinen und Anbieter anzutreffen\, die Ihre Waren selber produzieren. Dabei können Sie auf eine große Produktvielfalt zurückgreifen\, die von Gemüsejungpflanzen über Blumen und Sträucher bis hin zu Obst und Gemüse sowie Kuchen und Käse reicht. \n 
URL:https://ganterplaner.de/veranstaltungen/wochenmarkt-oldenburg/2026-12-08/
LOCATION:Pferdemarkt Oldenburg\, Pferdemarkt\, Oldenburg\, Niedersachsen\, 26121\, Deutschland
CATEGORIES:Wochenmärkte
END:VEVENT
BEGIN:VEVENT
DTSTART;TZID=UTC:20261208T170000
DTEND;TZID=UTC:20261208T190000
DTSTAMP:20260425T182034
CREATED:20250825T075533Z
LAST-MODIFIED:20250825T075903Z
UID:10005040-1796749200-1796756400@ganterplaner.de
SUMMARY:Repair Café Ganderkesee
DESCRIPTION:Reparieren statt Wegwerfen! \nJeden 2. Dienstag im Monat öffnet das Repair-Café in Ganderkesee von 17:00 bis 19:00 Uhr seine Türen. Veranstaltungsort ist der Werkraum der Schule am Habbrügger Weg 4\, 27777 Ganderkesee. 👉 Hinweis: In den Schulferien findet kein Repair-Café statt! \nAngeboten werden Reparaturen an: \n\nKleingeräten in den Bereichen Elektronik & Elektrik\nMechanik\nNäharbeiten\nKlebearbeiten\n\nIm Schnitt besuchen rund 35 Gäste das Repair-Café – eine tolle Resonanz\, die manchmal auch etwas Wartezeit mit sich bringt. Für eine entspannte Atmosphäre sorgen Kaffee und Kekse\, und ein großes Dankeschön geht an alle ehrenamtlichen Helfer:innen!
URL:https://ganterplaner.de/veranstaltungen/repair-cafe-ganderkesee-2/2026-12-08/
LOCATION:Förderzentrum Ganderkesee\, Habbrügger Weg 4\, Ganderkesee\, Niedersachsen\, 27777
CATEGORIES:Event
ATTACH;FMTTYPE=image/png:https://ganterplaner.de/wp-content/uploads/repair-cafe-ganderkesee.png
END:VEVENT
BEGIN:VEVENT
DTSTART;TZID=UTC:20261210T070000
DTEND;TZID=UTC:20261210T133000
DTSTAMP:20260425T182034
CREATED:20231108T141448Z
LAST-MODIFIED:20240115T104011Z
UID:10001899-1796886000-1796909400@ganterplaner.de
SUMMARY:Wochenmarkt Oldenburg
DESCRIPTION:Der Wochenmarkt am Pferdemarkt ist der größte der städtischen Wochenmärkte. Vom Frühjahr bis zum Herbst werden hier an bis zu 75 Marktständen Waren angeboten. Im Winter fehlen jahreszeitlich bedingt einige der Anbieter wie Baumschulen und Gärtnereien. \nZusätzlich zu den Dauerbeschickerinnen und Dauerbeschickern sind hier auch Verkäuferinen und Verkäufer zu finden\, die ihre Waren nur an einigen Markttagen im Jahr anbieten\, wie zum Beispiel Haushaltsartikel\, Tees\, Nistkästen und Insektenhotels sowie Kleidung oder Kurzwaren und Tischdecken. Auf dem Pferdemarkt sind viele Anbieterinen und Anbieter anzutreffen\, die Ihre Waren selber produzieren. Dabei können Sie auf eine große Produktvielfalt zurückgreifen\, die von Gemüsejungpflanzen über Blumen und Sträucher bis hin zu Obst und Gemüse sowie Kuchen und Käse reicht. \n 
URL:https://ganterplaner.de/veranstaltungen/wochenmarkt-oldenburg/2026-12-10/
LOCATION:Pferdemarkt Oldenburg\, Pferdemarkt\, Oldenburg\, Niedersachsen\, 26121\, Deutschland
CATEGORIES:Wochenmärkte
END:VEVENT
BEGIN:VEVENT
DTSTART;TZID=UTC:20261211T130000
DTEND;TZID=UTC:20261211T180000
DTSTAMP:20260425T182034
CREATED:20231113T045334Z
LAST-MODIFIED:20240115T104055Z
UID:10003786-1796994000-1797012000@ganterplaner.de
SUMMARY:Wochenmarkt Ganderkesee
DESCRIPTION:
URL:https://ganterplaner.de/veranstaltungen/wochenmarkt-ganderkesee/2026-12-11/
LOCATION:Marktplatz Ganderkesee\, Markt\, Ganderkesee\, Niedersachsen\, 27777
CATEGORIES:Wochenmärkte
END:VEVENT
BEGIN:VEVENT
DTSTART;TZID=UTC:20261212T070000
DTEND;TZID=UTC:20261212T140000
DTSTAMP:20260425T182034
CREATED:20231113T043437Z
LAST-MODIFIED:20250808T082335Z
UID:10002520-1797058800-1797084000@ganterplaner.de
SUMMARY:Wochenmarkt Oldenburg
DESCRIPTION:
URL:https://ganterplaner.de/veranstaltungen/wochenmarkt-oldenburg-2/2026-12-12/
LOCATION:Niedersachsen
CATEGORIES:Wochenmärkte
END:VEVENT
BEGIN:VEVENT
DTSTART;TZID=UTC:20261215T070000
DTEND;TZID=UTC:20261215T133000
DTSTAMP:20260425T182034
CREATED:20231108T141448Z
LAST-MODIFIED:20240115T104011Z
UID:10001900-1797318000-1797341400@ganterplaner.de
SUMMARY:Wochenmarkt Oldenburg
DESCRIPTION:Der Wochenmarkt am Pferdemarkt ist der größte der städtischen Wochenmärkte. Vom Frühjahr bis zum Herbst werden hier an bis zu 75 Marktständen Waren angeboten. Im Winter fehlen jahreszeitlich bedingt einige der Anbieter wie Baumschulen und Gärtnereien. \nZusätzlich zu den Dauerbeschickerinnen und Dauerbeschickern sind hier auch Verkäuferinen und Verkäufer zu finden\, die ihre Waren nur an einigen Markttagen im Jahr anbieten\, wie zum Beispiel Haushaltsartikel\, Tees\, Nistkästen und Insektenhotels sowie Kleidung oder Kurzwaren und Tischdecken. Auf dem Pferdemarkt sind viele Anbieterinen und Anbieter anzutreffen\, die Ihre Waren selber produzieren. Dabei können Sie auf eine große Produktvielfalt zurückgreifen\, die von Gemüsejungpflanzen über Blumen und Sträucher bis hin zu Obst und Gemüse sowie Kuchen und Käse reicht. \n 
URL:https://ganterplaner.de/veranstaltungen/wochenmarkt-oldenburg/2026-12-15/
LOCATION:Pferdemarkt Oldenburg\, Pferdemarkt\, Oldenburg\, Niedersachsen\, 26121\, Deutschland
CATEGORIES:Wochenmärkte
END:VEVENT
BEGIN:VEVENT
DTSTART;TZID=UTC:20261217T070000
DTEND;TZID=UTC:20261217T133000
DTSTAMP:20260425T182034
CREATED:20231108T141448Z
LAST-MODIFIED:20240115T104011Z
UID:10001901-1797490800-1797514200@ganterplaner.de
SUMMARY:Wochenmarkt Oldenburg
DESCRIPTION:Der Wochenmarkt am Pferdemarkt ist der größte der städtischen Wochenmärkte. Vom Frühjahr bis zum Herbst werden hier an bis zu 75 Marktständen Waren angeboten. Im Winter fehlen jahreszeitlich bedingt einige der Anbieter wie Baumschulen und Gärtnereien. \nZusätzlich zu den Dauerbeschickerinnen und Dauerbeschickern sind hier auch Verkäuferinen und Verkäufer zu finden\, die ihre Waren nur an einigen Markttagen im Jahr anbieten\, wie zum Beispiel Haushaltsartikel\, Tees\, Nistkästen und Insektenhotels sowie Kleidung oder Kurzwaren und Tischdecken. Auf dem Pferdemarkt sind viele Anbieterinen und Anbieter anzutreffen\, die Ihre Waren selber produzieren. Dabei können Sie auf eine große Produktvielfalt zurückgreifen\, die von Gemüsejungpflanzen über Blumen und Sträucher bis hin zu Obst und Gemüse sowie Kuchen und Käse reicht. \n 
URL:https://ganterplaner.de/veranstaltungen/wochenmarkt-oldenburg/2026-12-17/
LOCATION:Pferdemarkt Oldenburg\, Pferdemarkt\, Oldenburg\, Niedersachsen\, 26121\, Deutschland
CATEGORIES:Wochenmärkte
END:VEVENT
BEGIN:VEVENT
DTSTART;TZID=UTC:20261218T130000
DTEND;TZID=UTC:20261218T180000
DTSTAMP:20260425T182034
CREATED:20231113T045334Z
LAST-MODIFIED:20240115T104055Z
UID:10003303-1797598800-1797616800@ganterplaner.de
SUMMARY:Wochenmarkt Ganderkesee
DESCRIPTION:
URL:https://ganterplaner.de/veranstaltungen/wochenmarkt-ganderkesee/2026-12-18/
LOCATION:Marktplatz Ganderkesee\, Markt\, Ganderkesee\, Niedersachsen\, 27777
CATEGORIES:Wochenmärkte
END:VEVENT
BEGIN:VEVENT
DTSTART;TZID=UTC:20261218T160000
DTEND;TZID=UTC:20261218T190000
DTSTAMP:20260425T182034
CREATED:20251203T083205Z
LAST-MODIFIED:20251203T083205Z
UID:10005306-1797609600-1797620400@ganterplaner.de
SUMMARY:Mobiles Kino
DESCRIPTION:Das Mobile Kino Niedersachsen ist 2026 wieder zu Gast im Kulturhof Hude: \nVorstellungen immer um 16.00 und 19.00 Uhr
URL:https://ganterplaner.de/veranstaltungen/mobiles-kino/2026-12-18/
LOCATION:Kulturhof Hude\, Parkstraße 106\, Hude\, Niedersachsen\, 27798
CATEGORIES:Kino
END:VEVENT
BEGIN:VEVENT
DTSTART;TZID=UTC:20261219T070000
DTEND;TZID=UTC:20261219T140000
DTSTAMP:20260425T182034
CREATED:20231113T043437Z
LAST-MODIFIED:20250808T082335Z
UID:10002521-1797663600-1797688800@ganterplaner.de
SUMMARY:Wochenmarkt Oldenburg
DESCRIPTION:
URL:https://ganterplaner.de/veranstaltungen/wochenmarkt-oldenburg-2/2026-12-19/
LOCATION:Niedersachsen
CATEGORIES:Wochenmärkte
END:VEVENT
BEGIN:VEVENT
DTSTART;TZID=UTC:20261222T070000
DTEND;TZID=UTC:20261222T133000
DTSTAMP:20260425T182034
CREATED:20231108T141448Z
LAST-MODIFIED:20240115T104011Z
UID:10001902-1797922800-1797946200@ganterplaner.de
SUMMARY:Wochenmarkt Oldenburg
DESCRIPTION:Der Wochenmarkt am Pferdemarkt ist der größte der städtischen Wochenmärkte. Vom Frühjahr bis zum Herbst werden hier an bis zu 75 Marktständen Waren angeboten. Im Winter fehlen jahreszeitlich bedingt einige der Anbieter wie Baumschulen und Gärtnereien. \nZusätzlich zu den Dauerbeschickerinnen und Dauerbeschickern sind hier auch Verkäuferinen und Verkäufer zu finden\, die ihre Waren nur an einigen Markttagen im Jahr anbieten\, wie zum Beispiel Haushaltsartikel\, Tees\, Nistkästen und Insektenhotels sowie Kleidung oder Kurzwaren und Tischdecken. Auf dem Pferdemarkt sind viele Anbieterinen und Anbieter anzutreffen\, die Ihre Waren selber produzieren. Dabei können Sie auf eine große Produktvielfalt zurückgreifen\, die von Gemüsejungpflanzen über Blumen und Sträucher bis hin zu Obst und Gemüse sowie Kuchen und Käse reicht. \n 
URL:https://ganterplaner.de/veranstaltungen/wochenmarkt-oldenburg/2026-12-22/
LOCATION:Pferdemarkt Oldenburg\, Pferdemarkt\, Oldenburg\, Niedersachsen\, 26121\, Deutschland
CATEGORIES:Wochenmärkte
END:VEVENT
BEGIN:VEVENT
DTSTART;TZID=UTC:20261224T070000
DTEND;TZID=UTC:20261224T133000
DTSTAMP:20260425T182034
CREATED:20231108T141448Z
LAST-MODIFIED:20240115T104011Z
UID:10001903-1798095600-1798119000@ganterplaner.de
SUMMARY:Wochenmarkt Oldenburg
DESCRIPTION:Der Wochenmarkt am Pferdemarkt ist der größte der städtischen Wochenmärkte. Vom Frühjahr bis zum Herbst werden hier an bis zu 75 Marktständen Waren angeboten. Im Winter fehlen jahreszeitlich bedingt einige der Anbieter wie Baumschulen und Gärtnereien. \nZusätzlich zu den Dauerbeschickerinnen und Dauerbeschickern sind hier auch Verkäuferinen und Verkäufer zu finden\, die ihre Waren nur an einigen Markttagen im Jahr anbieten\, wie zum Beispiel Haushaltsartikel\, Tees\, Nistkästen und Insektenhotels sowie Kleidung oder Kurzwaren und Tischdecken. Auf dem Pferdemarkt sind viele Anbieterinen und Anbieter anzutreffen\, die Ihre Waren selber produzieren. Dabei können Sie auf eine große Produktvielfalt zurückgreifen\, die von Gemüsejungpflanzen über Blumen und Sträucher bis hin zu Obst und Gemüse sowie Kuchen und Käse reicht. \n 
URL:https://ganterplaner.de/veranstaltungen/wochenmarkt-oldenburg/2026-12-24/
LOCATION:Pferdemarkt Oldenburg\, Pferdemarkt\, Oldenburg\, Niedersachsen\, 26121\, Deutschland
CATEGORIES:Wochenmärkte
END:VEVENT
BEGIN:VEVENT
DTSTART;TZID=UTC:20261225T130000
DTEND;TZID=UTC:20261225T180000
DTSTAMP:20260425T182034
CREATED:20231113T045334Z
LAST-MODIFIED:20240115T104055Z
UID:10003787-1798203600-1798221600@ganterplaner.de
SUMMARY:Wochenmarkt Ganderkesee
DESCRIPTION:
URL:https://ganterplaner.de/veranstaltungen/wochenmarkt-ganderkesee/2026-12-25/
LOCATION:Marktplatz Ganderkesee\, Markt\, Ganderkesee\, Niedersachsen\, 27777
CATEGORIES:Wochenmärkte
END:VEVENT
BEGIN:VEVENT
DTSTART;TZID=UTC:20261226T070000
DTEND;TZID=UTC:20261226T140000
DTSTAMP:20260425T182034
CREATED:20231113T043437Z
LAST-MODIFIED:20250808T082335Z
UID:10002522-1798268400-1798293600@ganterplaner.de
SUMMARY:Wochenmarkt Oldenburg
DESCRIPTION:
URL:https://ganterplaner.de/veranstaltungen/wochenmarkt-oldenburg-2/2026-12-26/
LOCATION:Niedersachsen
CATEGORIES:Wochenmärkte
END:VEVENT
BEGIN:VEVENT
DTSTART;TZID=UTC:20261229T070000
DTEND;TZID=UTC:20261229T133000
DTSTAMP:20260425T182034
CREATED:20231108T141448Z
LAST-MODIFIED:20240115T104011Z
UID:10001904-1798527600-1798551000@ganterplaner.de
SUMMARY:Wochenmarkt Oldenburg
DESCRIPTION:Der Wochenmarkt am Pferdemarkt ist der größte der städtischen Wochenmärkte. Vom Frühjahr bis zum Herbst werden hier an bis zu 75 Marktständen Waren angeboten. Im Winter fehlen jahreszeitlich bedingt einige der Anbieter wie Baumschulen und Gärtnereien. \nZusätzlich zu den Dauerbeschickerinnen und Dauerbeschickern sind hier auch Verkäuferinen und Verkäufer zu finden\, die ihre Waren nur an einigen Markttagen im Jahr anbieten\, wie zum Beispiel Haushaltsartikel\, Tees\, Nistkästen und Insektenhotels sowie Kleidung oder Kurzwaren und Tischdecken. Auf dem Pferdemarkt sind viele Anbieterinen und Anbieter anzutreffen\, die Ihre Waren selber produzieren. Dabei können Sie auf eine große Produktvielfalt zurückgreifen\, die von Gemüsejungpflanzen über Blumen und Sträucher bis hin zu Obst und Gemüse sowie Kuchen und Käse reicht. \n 
URL:https://ganterplaner.de/veranstaltungen/wochenmarkt-oldenburg/2026-12-29/
LOCATION:Pferdemarkt Oldenburg\, Pferdemarkt\, Oldenburg\, Niedersachsen\, 26121\, Deutschland
CATEGORIES:Wochenmärkte
END:VEVENT
BEGIN:VEVENT
DTSTART;TZID=UTC:20261231T070000
DTEND;TZID=UTC:20261231T133000
DTSTAMP:20260425T182034
CREATED:20231108T141448Z
LAST-MODIFIED:20240115T104011Z
UID:10001905-1798700400-1798723800@ganterplaner.de
SUMMARY:Wochenmarkt Oldenburg
DESCRIPTION:Der Wochenmarkt am Pferdemarkt ist der größte der städtischen Wochenmärkte. Vom Frühjahr bis zum Herbst werden hier an bis zu 75 Marktständen Waren angeboten. Im Winter fehlen jahreszeitlich bedingt einige der Anbieter wie Baumschulen und Gärtnereien. \nZusätzlich zu den Dauerbeschickerinnen und Dauerbeschickern sind hier auch Verkäuferinen und Verkäufer zu finden\, die ihre Waren nur an einigen Markttagen im Jahr anbieten\, wie zum Beispiel Haushaltsartikel\, Tees\, Nistkästen und Insektenhotels sowie Kleidung oder Kurzwaren und Tischdecken. Auf dem Pferdemarkt sind viele Anbieterinen und Anbieter anzutreffen\, die Ihre Waren selber produzieren. Dabei können Sie auf eine große Produktvielfalt zurückgreifen\, die von Gemüsejungpflanzen über Blumen und Sträucher bis hin zu Obst und Gemüse sowie Kuchen und Käse reicht. \n 
URL:https://ganterplaner.de/veranstaltungen/wochenmarkt-oldenburg/2026-12-31/
LOCATION:Pferdemarkt Oldenburg\, Pferdemarkt\, Oldenburg\, Niedersachsen\, 26121\, Deutschland
CATEGORIES:Wochenmärkte
END:VEVENT
END:VCALENDAR