BEGIN:VCALENDAR
VERSION:2.0
PRODID:-//GanterPlaner - ECPv6.15.20//NONSGML v1.0//EN
CALSCALE:GREGORIAN
METHOD:PUBLISH
X-WR-CALNAME:GanterPlaner
X-ORIGINAL-URL:https://ganterplaner.de
X-WR-CALDESC:Veranstaltungen für GanterPlaner
REFRESH-INTERVAL;VALUE=DURATION:PT1H
X-Robots-Tag:noindex
X-PUBLISHED-TTL:PT1H
BEGIN:VTIMEZONE
TZID:UTC
BEGIN:STANDARD
TZOFFSETFROM:+0000
TZOFFSETTO:+0000
TZNAME:UTC
DTSTART:20250101T000000
END:STANDARD
END:VTIMEZONE
BEGIN:VEVENT
DTSTART;TZID=UTC:20261031T190000
DTEND;TZID=UTC:20261101T020000
DTSTAMP:20260425T163923
CREATED:20260302T111038Z
LAST-MODIFIED:20260302T111038Z
UID:10005350-1793473200-1793498400@ganterplaner.de
SUMMARY:Halloween-Abcampparty am Falkensteinsee - Saisonfinale mit Grusel & Beats
DESCRIPTION:Moin moin\, Halloween-Fans\, Camping-Crew & Party-Monster! \nAm Samstag\, 31. Oktober 2026 ab 19 Uhr verabschieden wir die Saison mit unserer legendären Abcampparty – Halloween-Special!• DJ Ebi rockt die Tanzfläche bis in die Nacht • Kommt gerne verkleidet – je gruseliger/bunter\, desto besser!  (Bonus für die verrücktesten Outfits!)• Kühle Getränke\, Cocktails\, leckeres Essen & Snacks vom SeeHuus • Gruselige Stimmung im Falkodrom (Zirkuszelt an der großen Wiese) • Für Kids früher: Kinderschminken & Kinderdisco (ab ca. 17 Uhr – Infos vor Ort)\nEintritt frei – einfach vorbeikommen\, gute Laune mitbringen und die Saison zusammen feiern! Tagt eure Grusel-Crew\, ladet Freunde ein & plant die Kostüme! \nOrt: Camping & Ferienpark Falkensteinsee\, GanderkeseeAb 19:00 Uhr (Kids ab 17 Uhr)\nWir freuen uns riesig auf euch\, tolle Verkleidungen und einen mega Abschluss am See!
URL:https://ganterplaner.de/veranstaltungen/halloween-abcampparty-am-falkensteinsee-saisonfinale-mit-grusel-beats/
LOCATION:Camping- & Ferienpark Falkensteinsee\, Am Ferienhausgebiet 1\, Ganderkesee\, Niedersachsen\, 27777\, Deutschland
ATTACH;FMTTYPE=image/jpeg:https://ganterplaner.de/wp-content/uploads/abkempparty.jpg
ORGANIZER;CN="Camping- &amp%3B Ferienpark Falkensteinsee":MAILTO:camping@falkensteinsee.de
END:VEVENT
BEGIN:VEVENT
DTSTART;TZID=UTC:20261103T070000
DTEND;TZID=UTC:20261103T133000
DTSTAMP:20260425T163923
CREATED:20231108T141448Z
LAST-MODIFIED:20240115T104011Z
UID:10001888-1793689200-1793712600@ganterplaner.de
SUMMARY:Wochenmarkt Oldenburg
DESCRIPTION:Der Wochenmarkt am Pferdemarkt ist der größte der städtischen Wochenmärkte. Vom Frühjahr bis zum Herbst werden hier an bis zu 75 Marktständen Waren angeboten. Im Winter fehlen jahreszeitlich bedingt einige der Anbieter wie Baumschulen und Gärtnereien. \nZusätzlich zu den Dauerbeschickerinnen und Dauerbeschickern sind hier auch Verkäuferinen und Verkäufer zu finden\, die ihre Waren nur an einigen Markttagen im Jahr anbieten\, wie zum Beispiel Haushaltsartikel\, Tees\, Nistkästen und Insektenhotels sowie Kleidung oder Kurzwaren und Tischdecken. Auf dem Pferdemarkt sind viele Anbieterinen und Anbieter anzutreffen\, die Ihre Waren selber produzieren. Dabei können Sie auf eine große Produktvielfalt zurückgreifen\, die von Gemüsejungpflanzen über Blumen und Sträucher bis hin zu Obst und Gemüse sowie Kuchen und Käse reicht. \n 
URL:https://ganterplaner.de/veranstaltungen/wochenmarkt-oldenburg/2026-11-03/
LOCATION:Pferdemarkt Oldenburg\, Pferdemarkt\, Oldenburg\, Niedersachsen\, 26121\, Deutschland
CATEGORIES:Wochenmärkte
END:VEVENT
BEGIN:VEVENT
DTSTART;TZID=UTC:20261103T160000
DTEND;TZID=UTC:20261103T190000
DTSTAMP:20260425T163923
CREATED:20260219T075904Z
LAST-MODIFIED:20260219T075905Z
UID:10005110-1793721600-1793732400@ganterplaner.de
SUMMARY:Repair Café Wildeshausen
DESCRIPTION:Lieblingsgerät kaputt? \nDann komm ins Repair-Café! Ehrenamtliche Helfer:innen unterstützen dich beim Reparieren deiner Kleingeräte in den Bereichen Elektronik\, Mechanik\, Textil und mehr – soweit es möglich ist. Reparieren statt Wegwerfen! \n📅  jeweils am 1. Dienstag im Monat\, außerhalb der Schulferien\n⏰ Uhrzeit: 16:00 – 19:00 Uhr\n👉 Annahmeschluss: 18:30 Uhr
URL:https://ganterplaner.de/veranstaltungen/repair-cafe-wildeshausen-2/2026-11-03/
LOCATION:Hauptschule Wildeshausen\, Humboldtstraße 1\, Wildeshausen\, Niedersachsen\, 27793\, Deutschland
END:VEVENT
BEGIN:VEVENT
DTSTART;TZID=UTC:20261103T193000
DTEND;TZID=UTC:20261103T210000
DTSTAMP:20260425T163923
CREATED:20241211T092028Z
LAST-MODIFIED:20251202T120358Z
UID:10005296-1793734200-1793739600@ganterplaner.de
SUMMARY:Literatur in der Remise
DESCRIPTION:Die Lesungen finden in der „Remise“ statt.\nDie Remise\, direkt neben der „Klosterschänke“ in Hude gelegen\, gehört zum Bereich des ehemaligen Huder Zisterzienserklosters.\nDer örtliche Rahmen ist für bis zu zwanzig Gäste gedacht und sehr ansprechend gestaltet.\nAuch die Presse besucht diese Veranstaltungen gern und berichtet entsprechend. \nNach den Lesungen gibt es -bei dem ein oder anderen Getränk- immer wieder zwanglose Diskussionen mit den Autorinnen bzw. Autoren.\nIn der kalten Jahreszeit immer auch gern am prasselnden Kaminfeuer.
URL:https://ganterplaner.de/veranstaltungen/literatur-in-der-remise-hude/2026-11-03/
LOCATION:Remise Hude\, Von-Witzleben-Allee 3\, Hude\, Niedersachsen\, 27798
CATEGORIES:Lesung
END:VEVENT
BEGIN:VEVENT
DTSTART;TZID=UTC:20261105T070000
DTEND;TZID=UTC:20261105T133000
DTSTAMP:20260425T163923
CREATED:20231108T141448Z
LAST-MODIFIED:20240115T104011Z
UID:10001889-1793862000-1793885400@ganterplaner.de
SUMMARY:Wochenmarkt Oldenburg
DESCRIPTION:Der Wochenmarkt am Pferdemarkt ist der größte der städtischen Wochenmärkte. Vom Frühjahr bis zum Herbst werden hier an bis zu 75 Marktständen Waren angeboten. Im Winter fehlen jahreszeitlich bedingt einige der Anbieter wie Baumschulen und Gärtnereien. \nZusätzlich zu den Dauerbeschickerinnen und Dauerbeschickern sind hier auch Verkäuferinen und Verkäufer zu finden\, die ihre Waren nur an einigen Markttagen im Jahr anbieten\, wie zum Beispiel Haushaltsartikel\, Tees\, Nistkästen und Insektenhotels sowie Kleidung oder Kurzwaren und Tischdecken. Auf dem Pferdemarkt sind viele Anbieterinen und Anbieter anzutreffen\, die Ihre Waren selber produzieren. Dabei können Sie auf eine große Produktvielfalt zurückgreifen\, die von Gemüsejungpflanzen über Blumen und Sträucher bis hin zu Obst und Gemüse sowie Kuchen und Käse reicht. \n 
URL:https://ganterplaner.de/veranstaltungen/wochenmarkt-oldenburg/2026-11-05/
LOCATION:Pferdemarkt Oldenburg\, Pferdemarkt\, Oldenburg\, Niedersachsen\, 26121\, Deutschland
CATEGORIES:Wochenmärkte
END:VEVENT
BEGIN:VEVENT
DTSTART;TZID=UTC:20261106T130000
DTEND;TZID=UTC:20261106T180000
DTSTAMP:20260425T163923
CREATED:20231113T045334Z
LAST-MODIFIED:20240115T104055Z
UID:10003782-1793970000-1793988000@ganterplaner.de
SUMMARY:Wochenmarkt Ganderkesee
DESCRIPTION:
URL:https://ganterplaner.de/veranstaltungen/wochenmarkt-ganderkesee/2026-11-06/
LOCATION:Marktplatz Ganderkesee\, Markt\, Ganderkesee\, Niedersachsen\, 27777
CATEGORIES:Wochenmärkte
END:VEVENT
BEGIN:VEVENT
DTSTART;TZID=UTC:20261106T170000
DTEND;TZID=UTC:20261106T230000
DTSTAMP:20260425T163923
CREATED:20251126T113415Z
LAST-MODIFIED:20251126T113813Z
UID:10005262-1793984400-1794006000@ganterplaner.de
SUMMARY:SaunaZauber in der GraftTherme
DESCRIPTION:SaunaZauber – Relaxen ohne Aufpreis! \n– Mit Eventaufgüssen und kleinen Besonderheiten \n\n5. Dezember 2025 – Weihnachten in der Sauna\n9. Januar 2026 – Im Winterwald\n6. Februar 2026 – Back to the 80’s\n10. April 2026 – Heiß-kalte Momente\n6. November 2026 – Weltreise\n\n– Uhrzeit: 17.00 bis 23.00 Uhr\n– Es gelten die normalen Eintrittspreise\, ohne Voranmeldung \nWeitere Informationen zu den Veranstaltungen finden Sie vorab auf unserer Internetseite.
URL:https://ganterplaner.de/veranstaltungen/saunazauber-in-der-grafttherme/2026-11-06/
LOCATION:GraftTherme Delmenhorst\, Am Stadtbad 2\, Delmenhorst\, Niedersachsen\, 27753
CATEGORIES:Event
END:VEVENT
BEGIN:VEVENT
DTSTART;TZID=UTC:20261107T070000
DTEND;TZID=UTC:20261107T140000
DTSTAMP:20260425T163923
CREATED:20231113T043437Z
LAST-MODIFIED:20250808T082335Z
UID:10002515-1794034800-1794060000@ganterplaner.de
SUMMARY:Wochenmarkt Oldenburg
DESCRIPTION:
URL:https://ganterplaner.de/veranstaltungen/wochenmarkt-oldenburg-2/2026-11-07/
LOCATION:Niedersachsen
CATEGORIES:Wochenmärkte
END:VEVENT
BEGIN:VEVENT
DTSTART;TZID=UTC:20261107T090000
DTEND;TZID=UTC:20261107T120000
DTSTAMP:20260425T163923
CREATED:20231219T144823Z
LAST-MODIFIED:20251202T115411Z
UID:10005286-1794042000-1794052800@ganterplaner.de
SUMMARY:Repair Café Hude
DESCRIPTION:Reparieren statt wegwerfen! \nBei den kostenlosen Veranstaltungen kommen Reparaturkenner/innen und Besucher/innen mit kaputten Gegenständen bei Kaffee und Kuchen zusammen\, um diese bestenfalls gemeinsam zu reparieren. \nEtwas mehr als die Hälfte der defekten Dinge können vor Ort gemeinsam instand gesetzt und damit vor dem Wegwerfen bewahrt werden. Ein tolles Ergebnis! \nDie Einladung zum Repair-Café richtet sich an Jung und Alt\, an alle\, die einen liebgewonnenen kaputten Gegenstand reparieren möchten\, eine Frage an die Reparateur/innen haben oder einfach nur neugierig sind. Herzlich willkommen sind ebenfalls alle\, die ihre handwerklichen Begabungen\, ob für Näh- oder Holzarbeiten oder Reparaturen von Alltagsgegenständen sowie ihre Tüftel- oder Organisationsbegeisterung gerne einbringen möchten. Gesucht werden häufig auch Elektrofachkräfte\, die ein Repair-Café begleiten würden. \nIm Vordergrund dieser Repair-Cafés steht ein nachhaltiger Umgang mit unseren Ressourcen. Dabei macht das gemeinschaftliche Reparieren häufig Spaß\, schafft neue Begegnungen und schont den Geldbeutel. \n 
URL:https://ganterplaner.de/veranstaltungen/repair-cafe-hude-11/2026-11-07/
LOCATION:Kulturhof Hude\, Parkstraße 106\, Hude\, Niedersachsen\, 27798
CATEGORIES:Event
ATTACH;FMTTYPE=image/jpeg:https://ganterplaner.de/wp-content/uploads/repair-cafe-hude.jpg
END:VEVENT
BEGIN:VEVENT
DTSTART;TZID=UTC:20261108T120000
DTEND;TZID=UTC:20261108T170000
DTSTAMP:20260425T163923
CREATED:20231114T083724Z
LAST-MODIFIED:20260319T153759Z
UID:10003896-1794139200-1794157200@ganterplaner.de
SUMMARY:GanterTach!
DESCRIPTION:Verkaufsoffener Sonntag\nAm Sonntag\, den 8. November 2026\, lädt die Werbegemeinschaft GanterMarkt Ganderkesee e.V. erneut zum beliebten GanterTach ein. Von 12 bis 17 Uhr öffnen zahlreiche Geschäfte in der Innenstadt ihre Türen\, während die Besucher bereits ab 11 Uhr an den vielfältigen Imbissständen kulinarisch verwöhnt werden. \nVerkehrsinformation \nBitte beachten Sie\, dass die verkaufsoffene Rathausstraße für den Fahrzeugverkehr gesperrt wird\, um den Besuchern einen entspannten Aufenthalt zu ermöglichen. \nDie Einzelhändler aus Ganderkesee freuen sich auf Ihren Besuch!
URL:https://ganterplaner.de/veranstaltungen/gantertach/
LOCATION:Ortskern Ganderkesee\, Rathausstraße\, Ganderkesee\, Niedersachsen\, 27777
CATEGORIES:Fest,Verkaufsoffene Sonntage
ORGANIZER;CN="GanterMarkt Ganderkesee e.V.":MAILTO:veranstaltung@gantermarkt.de
END:VEVENT
BEGIN:VEVENT
DTSTART;TZID=UTC:20261110T070000
DTEND;TZID=UTC:20261110T133000
DTSTAMP:20260425T163923
CREATED:20231108T141448Z
LAST-MODIFIED:20240115T104011Z
UID:10001890-1794294000-1794317400@ganterplaner.de
SUMMARY:Wochenmarkt Oldenburg
DESCRIPTION:Der Wochenmarkt am Pferdemarkt ist der größte der städtischen Wochenmärkte. Vom Frühjahr bis zum Herbst werden hier an bis zu 75 Marktständen Waren angeboten. Im Winter fehlen jahreszeitlich bedingt einige der Anbieter wie Baumschulen und Gärtnereien. \nZusätzlich zu den Dauerbeschickerinnen und Dauerbeschickern sind hier auch Verkäuferinen und Verkäufer zu finden\, die ihre Waren nur an einigen Markttagen im Jahr anbieten\, wie zum Beispiel Haushaltsartikel\, Tees\, Nistkästen und Insektenhotels sowie Kleidung oder Kurzwaren und Tischdecken. Auf dem Pferdemarkt sind viele Anbieterinen und Anbieter anzutreffen\, die Ihre Waren selber produzieren. Dabei können Sie auf eine große Produktvielfalt zurückgreifen\, die von Gemüsejungpflanzen über Blumen und Sträucher bis hin zu Obst und Gemüse sowie Kuchen und Käse reicht. \n 
URL:https://ganterplaner.de/veranstaltungen/wochenmarkt-oldenburg/2026-11-10/
LOCATION:Pferdemarkt Oldenburg\, Pferdemarkt\, Oldenburg\, Niedersachsen\, 26121\, Deutschland
CATEGORIES:Wochenmärkte
END:VEVENT
BEGIN:VEVENT
DTSTART;TZID=UTC:20261110T170000
DTEND;TZID=UTC:20261110T190000
DTSTAMP:20260425T163923
CREATED:20250825T075533Z
LAST-MODIFIED:20250825T075903Z
UID:10005039-1794330000-1794337200@ganterplaner.de
SUMMARY:Repair Café Ganderkesee
DESCRIPTION:Reparieren statt Wegwerfen! \nJeden 2. Dienstag im Monat öffnet das Repair-Café in Ganderkesee von 17:00 bis 19:00 Uhr seine Türen. Veranstaltungsort ist der Werkraum der Schule am Habbrügger Weg 4\, 27777 Ganderkesee. 👉 Hinweis: In den Schulferien findet kein Repair-Café statt! \nAngeboten werden Reparaturen an: \n\nKleingeräten in den Bereichen Elektronik & Elektrik\nMechanik\nNäharbeiten\nKlebearbeiten\n\nIm Schnitt besuchen rund 35 Gäste das Repair-Café – eine tolle Resonanz\, die manchmal auch etwas Wartezeit mit sich bringt. Für eine entspannte Atmosphäre sorgen Kaffee und Kekse\, und ein großes Dankeschön geht an alle ehrenamtlichen Helfer:innen!
URL:https://ganterplaner.de/veranstaltungen/repair-cafe-ganderkesee-2/2026-11-10/
LOCATION:Förderzentrum Ganderkesee\, Habbrügger Weg 4\, Ganderkesee\, Niedersachsen\, 27777
CATEGORIES:Event
ATTACH;FMTTYPE=image/png:https://ganterplaner.de/wp-content/uploads/repair-cafe-ganderkesee.png
END:VEVENT
BEGIN:VEVENT
DTSTART;TZID=UTC:20261112T070000
DTEND;TZID=UTC:20261112T133000
DTSTAMP:20260425T163923
CREATED:20231108T141448Z
LAST-MODIFIED:20240115T104011Z
UID:10001891-1794466800-1794490200@ganterplaner.de
SUMMARY:Wochenmarkt Oldenburg
DESCRIPTION:Der Wochenmarkt am Pferdemarkt ist der größte der städtischen Wochenmärkte. Vom Frühjahr bis zum Herbst werden hier an bis zu 75 Marktständen Waren angeboten. Im Winter fehlen jahreszeitlich bedingt einige der Anbieter wie Baumschulen und Gärtnereien. \nZusätzlich zu den Dauerbeschickerinnen und Dauerbeschickern sind hier auch Verkäuferinen und Verkäufer zu finden\, die ihre Waren nur an einigen Markttagen im Jahr anbieten\, wie zum Beispiel Haushaltsartikel\, Tees\, Nistkästen und Insektenhotels sowie Kleidung oder Kurzwaren und Tischdecken. Auf dem Pferdemarkt sind viele Anbieterinen und Anbieter anzutreffen\, die Ihre Waren selber produzieren. Dabei können Sie auf eine große Produktvielfalt zurückgreifen\, die von Gemüsejungpflanzen über Blumen und Sträucher bis hin zu Obst und Gemüse sowie Kuchen und Käse reicht. \n 
URL:https://ganterplaner.de/veranstaltungen/wochenmarkt-oldenburg/2026-11-12/
LOCATION:Pferdemarkt Oldenburg\, Pferdemarkt\, Oldenburg\, Niedersachsen\, 26121\, Deutschland
CATEGORIES:Wochenmärkte
END:VEVENT
BEGIN:VEVENT
DTSTART;TZID=UTC:20261113T100000
DTEND;TZID=UTC:20261113T190000
DTSTAMP:20260425T163923
CREATED:20251126T110304Z
LAST-MODIFIED:20251126T110812Z
UID:10005257-1794564000-1794596400@ganterplaner.de
SUMMARY:Lichtermeer in der Grafttherme
DESCRIPTION:Lichtermeer im Erlebnisbereich – Magischer Spaß ohne Aufpreis! \n– Innerhalb der regulären Öffnungszeiten\n– Es gelten die normalen Eintrittspreise\, ohne Voranmeldung \nWeitere Informationen zu den Veranstaltungen finden Sie vorab auf unserer Internetseite.
URL:https://ganterplaner.de/veranstaltungen/lichtermeer-in-der-grafttherme/2026-11-13/
LOCATION:GraftTherme Delmenhorst\, Am Stadtbad 2\, Delmenhorst\, Niedersachsen\, 27753
CATEGORIES:Event
END:VEVENT
BEGIN:VEVENT
DTSTART;TZID=UTC:20261113T130000
DTEND;TZID=UTC:20261113T180000
DTSTAMP:20260425T163923
CREATED:20231113T045334Z
LAST-MODIFIED:20240115T104055Z
UID:10003783-1794574800-1794592800@ganterplaner.de
SUMMARY:Wochenmarkt Ganderkesee
DESCRIPTION:
URL:https://ganterplaner.de/veranstaltungen/wochenmarkt-ganderkesee/2026-11-13/
LOCATION:Marktplatz Ganderkesee\, Markt\, Ganderkesee\, Niedersachsen\, 27777
CATEGORIES:Wochenmärkte
END:VEVENT
BEGIN:VEVENT
DTSTART;VALUE=DATE:20261114
DTEND;VALUE=DATE:20261116
DTSTAMP:20260425T163923
CREATED:20231219T143850Z
LAST-MODIFIED:20251202T113829Z
UID:10004468-1794614400-1794787199@ganterplaner.de
SUMMARY:Kunst- & Handwerkermarkt der Crea Divas
DESCRIPTION:Der Kunst- und Kreativmarkt des Clubs Crea-Diva öffnet. \nFreuen Sie sich auf allerlei Kreatives und Handgemachtes.
URL:https://ganterplaner.de/veranstaltungen/kunst-handwerkerausstellung-crea-divas/
LOCATION:Kulturhof Hude\, Parkstraße 106\, Hude\, Niedersachsen\, 27798
CATEGORIES:Ausstellung
END:VEVENT
BEGIN:VEVENT
DTSTART;TZID=UTC:20261114T070000
DTEND;TZID=UTC:20261114T140000
DTSTAMP:20260425T163923
CREATED:20231113T043437Z
LAST-MODIFIED:20250808T082335Z
UID:10002516-1794639600-1794664800@ganterplaner.de
SUMMARY:Wochenmarkt Oldenburg
DESCRIPTION:
URL:https://ganterplaner.de/veranstaltungen/wochenmarkt-oldenburg-2/2026-11-14/
LOCATION:Niedersachsen
CATEGORIES:Wochenmärkte
END:VEVENT
BEGIN:VEVENT
DTSTART;TZID=UTC:20261117T070000
DTEND;TZID=UTC:20261117T133000
DTSTAMP:20260425T163923
CREATED:20231108T141448Z
LAST-MODIFIED:20240115T104011Z
UID:10001892-1794898800-1794922200@ganterplaner.de
SUMMARY:Wochenmarkt Oldenburg
DESCRIPTION:Der Wochenmarkt am Pferdemarkt ist der größte der städtischen Wochenmärkte. Vom Frühjahr bis zum Herbst werden hier an bis zu 75 Marktständen Waren angeboten. Im Winter fehlen jahreszeitlich bedingt einige der Anbieter wie Baumschulen und Gärtnereien. \nZusätzlich zu den Dauerbeschickerinnen und Dauerbeschickern sind hier auch Verkäuferinen und Verkäufer zu finden\, die ihre Waren nur an einigen Markttagen im Jahr anbieten\, wie zum Beispiel Haushaltsartikel\, Tees\, Nistkästen und Insektenhotels sowie Kleidung oder Kurzwaren und Tischdecken. Auf dem Pferdemarkt sind viele Anbieterinen und Anbieter anzutreffen\, die Ihre Waren selber produzieren. Dabei können Sie auf eine große Produktvielfalt zurückgreifen\, die von Gemüsejungpflanzen über Blumen und Sträucher bis hin zu Obst und Gemüse sowie Kuchen und Käse reicht. \n 
URL:https://ganterplaner.de/veranstaltungen/wochenmarkt-oldenburg/2026-11-17/
LOCATION:Pferdemarkt Oldenburg\, Pferdemarkt\, Oldenburg\, Niedersachsen\, 26121\, Deutschland
CATEGORIES:Wochenmärkte
END:VEVENT
BEGIN:VEVENT
DTSTART;TZID=UTC:20261119T070000
DTEND;TZID=UTC:20261119T133000
DTSTAMP:20260425T163923
CREATED:20231108T141448Z
LAST-MODIFIED:20240115T104011Z
UID:10001893-1795071600-1795095000@ganterplaner.de
SUMMARY:Wochenmarkt Oldenburg
DESCRIPTION:Der Wochenmarkt am Pferdemarkt ist der größte der städtischen Wochenmärkte. Vom Frühjahr bis zum Herbst werden hier an bis zu 75 Marktständen Waren angeboten. Im Winter fehlen jahreszeitlich bedingt einige der Anbieter wie Baumschulen und Gärtnereien. \nZusätzlich zu den Dauerbeschickerinnen und Dauerbeschickern sind hier auch Verkäuferinen und Verkäufer zu finden\, die ihre Waren nur an einigen Markttagen im Jahr anbieten\, wie zum Beispiel Haushaltsartikel\, Tees\, Nistkästen und Insektenhotels sowie Kleidung oder Kurzwaren und Tischdecken. Auf dem Pferdemarkt sind viele Anbieterinen und Anbieter anzutreffen\, die Ihre Waren selber produzieren. Dabei können Sie auf eine große Produktvielfalt zurückgreifen\, die von Gemüsejungpflanzen über Blumen und Sträucher bis hin zu Obst und Gemüse sowie Kuchen und Käse reicht. \n 
URL:https://ganterplaner.de/veranstaltungen/wochenmarkt-oldenburg/2026-11-19/
LOCATION:Pferdemarkt Oldenburg\, Pferdemarkt\, Oldenburg\, Niedersachsen\, 26121\, Deutschland
CATEGORIES:Wochenmärkte
END:VEVENT
BEGIN:VEVENT
DTSTART;TZID=UTC:20261120T130000
DTEND;TZID=UTC:20261120T180000
DTSTAMP:20260425T163923
CREATED:20231113T045334Z
LAST-MODIFIED:20240115T104055Z
UID:10003299-1795179600-1795197600@ganterplaner.de
SUMMARY:Wochenmarkt Ganderkesee
DESCRIPTION:
URL:https://ganterplaner.de/veranstaltungen/wochenmarkt-ganderkesee/2026-11-20/
LOCATION:Marktplatz Ganderkesee\, Markt\, Ganderkesee\, Niedersachsen\, 27777
CATEGORIES:Wochenmärkte
END:VEVENT
BEGIN:VEVENT
DTSTART;TZID=UTC:20261121T070000
DTEND;TZID=UTC:20261121T140000
DTSTAMP:20260425T163923
CREATED:20231113T043437Z
LAST-MODIFIED:20250808T082335Z
UID:10002517-1795244400-1795269600@ganterplaner.de
SUMMARY:Wochenmarkt Oldenburg
DESCRIPTION:
URL:https://ganterplaner.de/veranstaltungen/wochenmarkt-oldenburg-2/2026-11-21/
LOCATION:Niedersachsen
CATEGORIES:Wochenmärkte
END:VEVENT
BEGIN:VEVENT
DTSTART;TZID=UTC:20261121T193000
DTEND;TZID=UTC:20261121T193000
DTSTAMP:20260425T163923
CREATED:20251202T105248Z
LAST-MODIFIED:20251208T071735Z
UID:10005271-1795289400-1795289400@ganterplaner.de
SUMMARY:Norman Keil - Willst du mit mir gehen?
DESCRIPTION:Willst Du mit mir gehen? \n\n\n\n\nWer den in Erfurt geborenen Sänger und Songschreiber einmal live erlebt hat\, ist Fan. Seine Texte \, so direkt und die Geschichten so nah\, ehrlich und oft schmerzlich schön\, dass jeder einzelne Song eine kleine Welt eröffnet\, in die man sich nur allzu gerne fallen lässt.\nNach ein paar Jahren an der Seite der Brüder Wingenfelder (Fury in the Slaughterhouse) und zahlreichen Tourneen und Supportshows für Größen wie Udo Lindenberg\, Johannes Oerding\, Peter Maffay\, Gregor Meyle\, Max Giesinger\, Stefanie Heinzmann\, Stanfour\, Elif\, Michael Schulte\, Michael Patrick Kelly\, ist sein Name im deutschen Popuniversum längst kein Geheimtipp mehr. \n\n\n\n\nEinlass: 18:30 Uhr | Beginn: 19:30 Uhr \n\n\n\n\nVorverkauf: 25\,- € | Abendkasse: 30\,- €
URL:https://ganterplaner.de/veranstaltungen/klostersommer-norman-keil/
LOCATION:Peter-Ustinov-Schule Hude\, Vielstedter Kirchweg 15\, Hude\, 27798
CATEGORIES:Konzert
ATTACH;FMTTYPE=image/jpeg:https://ganterplaner.de/wp-content/uploads/Norman-Keil.jpg
END:VEVENT
BEGIN:VEVENT
DTSTART;TZID=UTC:20261124T070000
DTEND;TZID=UTC:20261124T133000
DTSTAMP:20260425T163923
CREATED:20231108T141448Z
LAST-MODIFIED:20240115T104011Z
UID:10001894-1795503600-1795527000@ganterplaner.de
SUMMARY:Wochenmarkt Oldenburg
DESCRIPTION:Der Wochenmarkt am Pferdemarkt ist der größte der städtischen Wochenmärkte. Vom Frühjahr bis zum Herbst werden hier an bis zu 75 Marktständen Waren angeboten. Im Winter fehlen jahreszeitlich bedingt einige der Anbieter wie Baumschulen und Gärtnereien. \nZusätzlich zu den Dauerbeschickerinnen und Dauerbeschickern sind hier auch Verkäuferinen und Verkäufer zu finden\, die ihre Waren nur an einigen Markttagen im Jahr anbieten\, wie zum Beispiel Haushaltsartikel\, Tees\, Nistkästen und Insektenhotels sowie Kleidung oder Kurzwaren und Tischdecken. Auf dem Pferdemarkt sind viele Anbieterinen und Anbieter anzutreffen\, die Ihre Waren selber produzieren. Dabei können Sie auf eine große Produktvielfalt zurückgreifen\, die von Gemüsejungpflanzen über Blumen und Sträucher bis hin zu Obst und Gemüse sowie Kuchen und Käse reicht. \n 
URL:https://ganterplaner.de/veranstaltungen/wochenmarkt-oldenburg/2026-11-24/
LOCATION:Pferdemarkt Oldenburg\, Pferdemarkt\, Oldenburg\, Niedersachsen\, 26121\, Deutschland
CATEGORIES:Wochenmärkte
END:VEVENT
BEGIN:VEVENT
DTSTART;TZID=UTC:20261126T070000
DTEND;TZID=UTC:20261126T133000
DTSTAMP:20260425T163923
CREATED:20231108T141448Z
LAST-MODIFIED:20240115T104011Z
UID:10001895-1795676400-1795699800@ganterplaner.de
SUMMARY:Wochenmarkt Oldenburg
DESCRIPTION:Der Wochenmarkt am Pferdemarkt ist der größte der städtischen Wochenmärkte. Vom Frühjahr bis zum Herbst werden hier an bis zu 75 Marktständen Waren angeboten. Im Winter fehlen jahreszeitlich bedingt einige der Anbieter wie Baumschulen und Gärtnereien. \nZusätzlich zu den Dauerbeschickerinnen und Dauerbeschickern sind hier auch Verkäuferinen und Verkäufer zu finden\, die ihre Waren nur an einigen Markttagen im Jahr anbieten\, wie zum Beispiel Haushaltsartikel\, Tees\, Nistkästen und Insektenhotels sowie Kleidung oder Kurzwaren und Tischdecken. Auf dem Pferdemarkt sind viele Anbieterinen und Anbieter anzutreffen\, die Ihre Waren selber produzieren. Dabei können Sie auf eine große Produktvielfalt zurückgreifen\, die von Gemüsejungpflanzen über Blumen und Sträucher bis hin zu Obst und Gemüse sowie Kuchen und Käse reicht. \n 
URL:https://ganterplaner.de/veranstaltungen/wochenmarkt-oldenburg/2026-11-26/
LOCATION:Pferdemarkt Oldenburg\, Pferdemarkt\, Oldenburg\, Niedersachsen\, 26121\, Deutschland
CATEGORIES:Wochenmärkte
END:VEVENT
BEGIN:VEVENT
DTSTART;VALUE=DATE:20261127
DTEND;VALUE=DATE:20261129
DTSTAMP:20260425T163923
CREATED:20241028T153158Z
LAST-MODIFIED:20251128T143527Z
UID:10004650-1795737600-1795910399@ganterplaner.de
SUMMARY:Jazzfest Delmenhorst
DESCRIPTION:
URL:https://ganterplaner.de/veranstaltungen/jazzfest/
LOCATION:Theater Kleines Haus Delmenhorst\, Max-Planck-Straße 4c\, Delmenhorst\, Niedersachsen\, 27749
CATEGORIES:Fest,Konzert
ATTACH;FMTTYPE=image/jpeg:https://ganterplaner.de/wp-content/uploads/jazzfest-delmenhorst.jpg
END:VEVENT
BEGIN:VEVENT
DTSTART;TZID=UTC:20261127T130000
DTEND;TZID=UTC:20261127T180000
DTSTAMP:20260425T163923
CREATED:20231113T045334Z
LAST-MODIFIED:20240115T104055Z
UID:10003784-1795784400-1795802400@ganterplaner.de
SUMMARY:Wochenmarkt Ganderkesee
DESCRIPTION:
URL:https://ganterplaner.de/veranstaltungen/wochenmarkt-ganderkesee/2026-11-27/
LOCATION:Marktplatz Ganderkesee\, Markt\, Ganderkesee\, Niedersachsen\, 27777
CATEGORIES:Wochenmärkte
END:VEVENT
BEGIN:VEVENT
DTSTART;VALUE=DATE:20261128
DTEND;VALUE=DATE:20261130
DTSTAMP:20260425T163923
CREATED:20251202T110036Z
LAST-MODIFIED:20251202T110036Z
UID:10005272-1795824000-1795996799@ganterplaner.de
SUMMARY:Weihnachtsmarkt Wüsting
DESCRIPTION:
URL:https://ganterplaner.de/veranstaltungen/weihnachtsmarkt-wuesting/
LOCATION:Eventhof Urban\, Raiffeisenstraße 1\, Hude-Wüsting\, Niedersachsen\, 27798
CATEGORIES:Weihnachten
END:VEVENT
BEGIN:VEVENT
DTSTART;TZID=UTC:20261128T070000
DTEND;TZID=UTC:20261128T140000
DTSTAMP:20260425T163923
CREATED:20231113T043437Z
LAST-MODIFIED:20250808T082335Z
UID:10002518-1795849200-1795874400@ganterplaner.de
SUMMARY:Wochenmarkt Oldenburg
DESCRIPTION:
URL:https://ganterplaner.de/veranstaltungen/wochenmarkt-oldenburg-2/2026-11-28/
LOCATION:Niedersachsen
CATEGORIES:Wochenmärkte
END:VEVENT
END:VCALENDAR