BEGIN:VCALENDAR
VERSION:2.0
PRODID:-//GanterPlaner - ECPv6.15.20//NONSGML v1.0//EN
CALSCALE:GREGORIAN
METHOD:PUBLISH
X-WR-CALNAME:GanterPlaner
X-ORIGINAL-URL:https://ganterplaner.de
X-WR-CALDESC:Veranstaltungen für GanterPlaner
REFRESH-INTERVAL;VALUE=DURATION:PT1H
X-Robots-Tag:noindex
X-PUBLISHED-TTL:PT1H
BEGIN:VTIMEZONE
TZID:UTC
BEGIN:STANDARD
TZOFFSETFROM:+0000
TZOFFSETTO:+0000
TZNAME:UTC
DTSTART:20250101T000000
END:STANDARD
END:VTIMEZONE
BEGIN:VEVENT
DTSTART;TZID=UTC:20261011T110000
DTEND;TZID=UTC:20261011T180000
DTSTAMP:20260423T153929
CREATED:20231114T073001Z
LAST-MODIFIED:20251118T143307Z
UID:10003884-1791716400-1791741600@ganterplaner.de
SUMMARY:Delmenhorster Kartoffelfest 2026
DESCRIPTION:Am Sonntag\, den 11. Oktober 2026\, von 11 bis 18 Uhr\, lädt das Fest für Groß und Klein in die Delmenhorster Innenstadt. \nFreut euch auf diese knolligen Highlights:\n \n\n\n\n🥔 Livemusik: verteilt in der Innenstadt\n\n\n🥔 Kartoffelschälwettbewerb in der Markthalle\, Kartoffelquiz bei der VHS (Lange Str.)\n\n\n🥔 Kartoffelpuffer\, Spiralkartoffeln\, frisches Brot\, Knipp\, …\n\n\n🥔 verkaufsoffener Sonntag und geöffneter Wasserturm (von 13 bis 18 Uhr)\n\n\n🥔 Und vieles mehr!\n\n\n \n\n\nKommt vorbei und feiert mit uns am 11. Oktober die „tolle Knolle“ in der Delmenhorster Innenstadt 🌞
URL:https://ganterplaner.de/veranstaltungen/delmenhorster-kartoffelfest/
LOCATION:Markthalle Delmenhorst\, Rathausplatz 2\, Delmenhorst\, Niedersachsen\, 27749
CATEGORIES:Fest,Verkaufsoffene Sonntage
END:VEVENT
END:VCALENDAR