BEGIN:VCALENDAR
VERSION:2.0
PRODID:-//GanterPlaner - ECPv6.15.20//NONSGML v1.0//EN
CALSCALE:GREGORIAN
METHOD:PUBLISH
X-WR-CALNAME:GanterPlaner
X-ORIGINAL-URL:https://ganterplaner.de
X-WR-CALDESC:Veranstaltungen für GanterPlaner
REFRESH-INTERVAL;VALUE=DURATION:PT1H
X-Robots-Tag:noindex
X-PUBLISHED-TTL:PT1H
BEGIN:VTIMEZONE
TZID:UTC
BEGIN:STANDARD
TZOFFSETFROM:+0000
TZOFFSETTO:+0000
TZNAME:UTC
DTSTART:20240101T000000
END:STANDARD
END:VTIMEZONE
BEGIN:VEVENT
DTSTART;TZID=UTC:20251111T200000
DTEND;TZID=UTC:20251111T200000
DTSTAMP:20260423T121035
CREATED:20231219T150149Z
LAST-MODIFIED:20250926T034915Z
UID:10004479-1762891200-1762891200@ganterplaner.de
SUMMARY:Faschingsauftakt
DESCRIPTION:Zum Faschings-Beginn am 11.11. findet jedes Jahr traditionell die Auftaktveranstaltung der GGV statt – seit 2016 im Haus Adelheide. \nHier erwartet unsere Besucher ein ca. zweistündiges Programm mit der Proklamation des neuen Prinzenpaares sowie des Kinderprinzenpaares und der Ehrendamen. Im Anschluss kann bis in die frühen Morgenstunden getanzt werden. Der erste Höhepunkt der Faschingssession in Ganderkesee. \nDas Programm – wie bei allen GGV-Veranstaltungen- wird in bewährter Weise vom Regie-Team zusammengesellt\, die jedes Jahre aufs Neue ausgezeichnete Künstlerinnen und Künstler aus der Region finden und für die GGV gewinnen können. \nDer Saal ist jedes Jahr ausverkauft und wir empfehlen\, sich rechtzeitig Karten am Beginn des Vorverkaufs zu sichern.
URL:https://ganterplaner.de/veranstaltungen/fasching-ganderkesee-faschingsauftakt/
LOCATION:Haus Adelheide Delmenhorst\, Abernettistraße 43\, Delmenhorst\, Niedersachsen\, 27755
CATEGORIES:Fasching
ATTACH;FMTTYPE=image/jpeg:https://ganterplaner.de/wp-content/uploads/auftakt-fasching-um-den-ring-ganderkesee.jpg
END:VEVENT
END:VCALENDAR