BEGIN:VCALENDAR
VERSION:2.0
PRODID:-//GanterPlaner - ECPv6.15.20//NONSGML v1.0//EN
CALSCALE:GREGORIAN
METHOD:PUBLISH
X-ORIGINAL-URL:https://ganterplaner.de
X-WR-CALDESC:Veranstaltungen für GanterPlaner
REFRESH-INTERVAL;VALUE=DURATION:PT1H
X-Robots-Tag:noindex
X-PUBLISHED-TTL:PT1H
BEGIN:VTIMEZONE
TZID:UTC
BEGIN:STANDARD
TZOFFSETFROM:+0000
TZOFFSETTO:+0000
TZNAME:UTC
DTSTART:20230101T000000
END:STANDARD
END:VTIMEZONE
BEGIN:VEVENT
DTSTART;TZID=UTC:20241215T120000
DTEND;TZID=UTC:20241215T180000
DTSTAMP:20260421T182632
CREATED:20231214T092955Z
LAST-MODIFIED:20231214T093500Z
UID:10004363-1734264000-1734285600@ganterplaner.de
SUMMARY:Kinderaktionstag Delmenhorst
DESCRIPTION:Spiel und Spaß am 2. Advent beim Kinderaktionstag: die Markthalle verwandelt sich wieder in ein vorweihnachtliches Kinderparadies!\nDer Kinderaktionstag findet am 15. Dezember 2023 von 12 bis 18 Uhr statt – der Eintritt ist frei. \nEin großer Dank geht an alle ehrenamtlichen Helfer sowie an unsere Sponsoren. \nJedes Jahr öffnen sich die Tore der Delmenhorster Markhalle in der Adventszeit für den Kinderaktionstag. Organisiert von der Delmenhorster Wirtschaftsförderungsgesellschaft mbH hat es sich das Event zur Aufgabe gemacht\, Kindern ein Lächeln zu zaubern und magische Weihnachtsmomente für die Kleinen zu schaffen. \n 
URL:https://ganterplaner.de/veranstaltungen/kinderaktionstag-delmenhorst/
LOCATION:Markthalle Delmenhorst\, Rathausplatz 2\, Delmenhorst\, Niedersachsen\, 27749
CATEGORIES:Event
END:VEVENT
END:VCALENDAR