BEGIN:VCALENDAR
VERSION:2.0
PRODID:-//GanterPlaner - ECPv6.15.20//NONSGML v1.0//EN
CALSCALE:GREGORIAN
METHOD:PUBLISH
X-ORIGINAL-URL:https://ganterplaner.de
X-WR-CALDESC:Veranstaltungen für GanterPlaner
REFRESH-INTERVAL;VALUE=DURATION:PT1H
X-Robots-Tag:noindex
X-PUBLISHED-TTL:PT1H
BEGIN:VTIMEZONE
TZID:UTC
BEGIN:STANDARD
TZOFFSETFROM:+0000
TZOFFSETTO:+0000
TZNAME:UTC
DTSTART:20230101T000000
END:STANDARD
END:VTIMEZONE
BEGIN:VEVENT
DTSTART;TZID=UTC:20241101T180000
DTEND;TZID=UTC:20241101T180000
DTSTAMP:20260421T200203
CREATED:20231214T093723Z
LAST-MODIFIED:20231214T093723Z
UID:10004364-1730484000-1730484000@ganterplaner.de
SUMMARY:Großer Delmenhorster Laternenumzug
DESCRIPTION:„Laterne\, Laterne – Sonne\, Mond und Sterne“\, so heißt es am Freitag\, 01. November 2024\, denn wir laden zum großen Laternenumzug durch die Delmenhorster Innenstadt ein – mit buntem Rahmenprogramm. \nFür die Sicherheit aller Teilnehmer sorgen auch in diesem Jahr wieder die Polizei\, das Deutsche Rote Kreuz\, die Malteser und die Johanniter. \nWir freuen uns auf euch und ganz viele funkelnde Laternen.
URL:https://ganterplaner.de/veranstaltungen/grosser-delmenhorster-laternenumzug/
LOCATION:Marktplatz Delmenhorst\, Rathausplatz\, Delmenhorst\, 27749
CATEGORIES:Event
END:VEVENT
END:VCALENDAR