BEGIN:VCALENDAR
VERSION:2.0
PRODID:-//GanterPlaner - ECPv6.15.20//NONSGML v1.0//EN
CALSCALE:GREGORIAN
METHOD:PUBLISH
X-ORIGINAL-URL:https://ganterplaner.de
X-WR-CALDESC:Veranstaltungen für GanterPlaner
REFRESH-INTERVAL;VALUE=DURATION:PT1H
X-Robots-Tag:noindex
X-PUBLISHED-TTL:PT1H
BEGIN:VTIMEZONE
TZID:UTC
BEGIN:STANDARD
TZOFFSETFROM:+0000
TZOFFSETTO:+0000
TZNAME:UTC
DTSTART:20230101T000000
END:STANDARD
END:VTIMEZONE
BEGIN:VEVENT
DTSTART;TZID=UTC:20240921T120000
DTEND;TZID=UTC:20240922T200000
DTSTAMP:20260421T230434
CREATED:20231114T072839Z
LAST-MODIFIED:20231114T072839Z
UID:10003883-1726920000-1727035200@ganterplaner.de
SUMMARY:4. Delmenhorster Tattoo Weekend
DESCRIPTION:
URL:https://ganterplaner.de/veranstaltungen/4-delmenhorster-tattoo-weekend/
LOCATION:Markthalle Delmenhorst\, Rathausplatz 2\, Delmenhorst\, Niedersachsen\, 27749
CATEGORIES:Event
END:VEVENT
END:VCALENDAR