BEGIN:VCALENDAR
VERSION:2.0
PRODID:-//GanterPlaner - ECPv6.15.20//NONSGML v1.0//EN
CALSCALE:GREGORIAN
METHOD:PUBLISH
X-ORIGINAL-URL:https://ganterplaner.de
X-WR-CALDESC:Veranstaltungen für GanterPlaner
REFRESH-INTERVAL;VALUE=DURATION:PT1H
X-Robots-Tag:noindex
X-PUBLISHED-TTL:PT1H
BEGIN:VTIMEZONE
TZID:UTC
BEGIN:STANDARD
TZOFFSETFROM:+0000
TZOFFSETTO:+0000
TZNAME:UTC
DTSTART:20230101T000000
END:STANDARD
END:VTIMEZONE
BEGIN:VEVENT
DTSTART;TZID=UTC:20241108T180000
DTEND;TZID=UTC:20241108T200000
DTSTAMP:20260425T114949
CREATED:20241028T111732Z
LAST-MODIFIED:20241030T150613Z
UID:10004648-1731088800-1731096000@ganterplaner.de
SUMMARY:Märchenabend für Erwachsene: „Wasser ist Leben“ – Märchen\, Musik und mehr
DESCRIPTION:Aus Anlass ihres 20-jährigen Bestehens lädt die ehrenamtliche Arbeitsgruppe Delmenhorst-Ganderkesee des Kinderhilfwerkes terre des hommes zu einer abwechslungsreichen Jubiläumsveranstaltung ein. Lore Giesen-Wiche wird Märchen für Erwachsene erzählen – stimmungsvoll ergänzt von Flötenspielerinnen unter der Leitung von Aleke Harders und Janneke Hünger. Kurze Impulse zur globalen Wasserlage\, zur Projektarbeit von terre des hommes\, zu den vor-Ort-Aktivtäten der letzten beiden Jahrzehnte und ein Dank an alle Unterstützenden runden das Programm ab. \nEintritt frei\, alle Unterstützer\, Freunde und Interessierte sind herzlich eingeladen | KulturHaus Müller | Ring 24 | Ganderkesee \nAnmeldungen bitte an die Arbeitsgruppe Delmenhorst-Ganderkesee von terre des hommes  \nFrau Regina Hewer  \nTelefon: 04221 520 86  \nE-Mail: delmenhorst-ganderkesee@tdh-ag.de
URL:https://ganterplaner.de/veranstaltungen/maerchenabend-fuer-erwachsene-wasser-ist-leben-maerchen-musik-und-mehr/
LOCATION:Kulturhaus Müller Ganderkesee\, Ring 24\, Ganderkesee\, 27777
CATEGORIES:Kultur,Musikalische Lesung
ATTACH;FMTTYPE=image/jpeg:https://ganterplaner.de/wp-content/uploads/terre_des_hommes_Maerchenabend_Wasser_ist_Leben2-Copyright-Pixabay.jpg
ORGANIZER;CN="KulturHaus M%C3%BCller":MAILTO:anmeldung@regiovhs.de
END:VEVENT
END:VCALENDAR